BEGIN:VCALENDAR
VERSION:2.0
PRODID:-//EURORBEM - ECPv6.15.20//NONSGML v1.0//EN
CALSCALE:GREGORIAN
METHOD:PUBLISH
X-WR-CALNAME:EURORBEM
X-ORIGINAL-URL:https://eurorbem.sorbonne-universite.fr
X-WR-CALDESC:Évènements pour EURORBEM
REFRESH-INTERVAL;VALUE=DURATION:PT1H
X-Robots-Tag:noindex
X-PUBLISHED-TTL:PT1H
BEGIN:VTIMEZONE
TZID:Europe/Paris
BEGIN:DAYLIGHT
TZOFFSETFROM:+0100
TZOFFSETTO:+0200
TZNAME:CEST
DTSTART:20250330T010000
END:DAYLIGHT
BEGIN:STANDARD
TZOFFSETFROM:+0200
TZOFFSETTO:+0100
TZNAME:CET
DTSTART:20251026T010000
END:STANDARD
BEGIN:DAYLIGHT
TZOFFSETFROM:+0100
TZOFFSETTO:+0200
TZNAME:CEST
DTSTART:20260329T010000
END:DAYLIGHT
BEGIN:STANDARD
TZOFFSETFROM:+0200
TZOFFSETTO:+0100
TZNAME:CET
DTSTART:20261025T010000
END:STANDARD
BEGIN:DAYLIGHT
TZOFFSETFROM:+0100
TZOFFSETTO:+0200
TZNAME:CEST
DTSTART:20270328T010000
END:DAYLIGHT
BEGIN:STANDARD
TZOFFSETFROM:+0200
TZOFFSETTO:+0100
TZNAME:CET
DTSTART:20271031T010000
END:STANDARD
END:VTIMEZONE
BEGIN:VEVENT
DTSTART;TZID=Europe/Paris:20260319T100000
DTEND;TZID=Europe/Paris:20260430T170000
DTSTAMP:20260424T052248
CREATED:20260316T153050Z
LAST-MODIFIED:20260316T153700Z
UID:7244-1773914400-1777568400@eurorbem.sorbonne-universite.fr
SUMMARY:Exposition
DESCRIPTION:Dans son exposition Bureau fantôme\, Bojan Stojčić traque les spectres d’un accord signé à Paris il y a plus de trente ans. S’exprimant entre poétique et géopolitique\, Stojčić explore les traces et les transformations du présent. \n\n\n\n\n\n\n\n\n\n\nVernissage : 19 mars\, 18h30
URL:https://eurorbem.sorbonne-universite.fr/event/exposition/
LOCATION:Centre d’études slaves – Salons du rez-de chaussée\, 9 rue Michelet\, Paris\, 75006
CATEGORIES:Expositions
ATTACH;FMTTYPE=image/jpeg:https://eurorbem.sorbonne-universite.fr/wp-content/uploads/2026/03/EXPO-19-MARS-scaled.jpg
END:VEVENT
END:VCALENDAR