BEGIN:VCALENDAR
VERSION:2.0
PRODID:-//EURORBEM - ECPv6.15.20//NONSGML v1.0//EN
CALSCALE:GREGORIAN
METHOD:PUBLISH
X-WR-CALNAME:EURORBEM
X-ORIGINAL-URL:https://eurorbem.sorbonne-universite.fr
X-WR-CALDESC:Évènements pour EURORBEM
REFRESH-INTERVAL;VALUE=DURATION:PT1H
X-Robots-Tag:noindex
X-PUBLISHED-TTL:PT1H
BEGIN:VTIMEZONE
TZID:Europe/Paris
BEGIN:DAYLIGHT
TZOFFSETFROM:+0100
TZOFFSETTO:+0200
TZNAME:CEST
DTSTART:20220327T010000
END:DAYLIGHT
BEGIN:STANDARD
TZOFFSETFROM:+0200
TZOFFSETTO:+0100
TZNAME:CET
DTSTART:20221030T010000
END:STANDARD
BEGIN:DAYLIGHT
TZOFFSETFROM:+0100
TZOFFSETTO:+0200
TZNAME:CEST
DTSTART:20230326T010000
END:DAYLIGHT
BEGIN:STANDARD
TZOFFSETFROM:+0200
TZOFFSETTO:+0100
TZNAME:CET
DTSTART:20231029T010000
END:STANDARD
BEGIN:DAYLIGHT
TZOFFSETFROM:+0100
TZOFFSETTO:+0200
TZNAME:CEST
DTSTART:20240331T010000
END:DAYLIGHT
BEGIN:STANDARD
TZOFFSETFROM:+0200
TZOFFSETTO:+0100
TZNAME:CET
DTSTART:20241027T010000
END:STANDARD
END:VTIMEZONE
BEGIN:VEVENT
DTSTART;TZID=Europe/Paris:20230510T100000
DTEND;TZID=Europe/Paris:20230511T163000
DTSTAMP:20260425T022723
CREATED:20230727T085201Z
LAST-MODIFIED:20230727T095325Z
UID:1290-1683712800-1683822600@eurorbem.sorbonne-universite.fr
SUMMARY:Le retour du tragique en Europe ?
DESCRIPTION:Programme Le retour du tragique \nLa période d’après-guerre\, connue en France sous le nom de « Les Trente glorieuses »\, a été marquée par 70 années de paix\, de développement économique et de liberté\, qui ont provoqué l’émergence de nouvelles utopies en Occident : la fin de l’histoire\, la démocratie omniprésente\, la fin des guerres\, le châtiment des dictateurs. Au lieu de cela\, la guerre brutalement provoquée en Ukraine a imposé un retour à la réalité\, c’est-à-dire à un monde dans lequel le mal existe toujours mélangé au bien et dans lequel la démocratie se gagne en se battant dans la crainte qu’elle ne puisse être gagnée. Il n’y a donc pas de « retour du tragique » comme le pensent certains en Occident\, car le tragique fait partie de la destinée humaine. Cependant\, la conscience du tragique est revenue. Qu’est-ce que cela signifie pour les relations Est/Ouest en Europe ? \nL’événement co-organisé avec CY Cergy Paris Université réunira des philosophes politiques\, des écrivains\, des anthropologues de différents pays européens et tentera de répondre à cette question complexe. L’ambition des co-organisateurs est également de publier un texte qui résume les enjeux\, absolument fondamentaux pour comprendre l’Europe contemporaine. La guerre en Ukraine a bouleversé la géopolitique européenne et impose un nouveau regard sur la réalité. La publication du dictionnaire-encyclopédie La vie de l’esprit en Europe centrale et orientale depuis 1945\, ouvrage accueilli avec un grand intérêt notamment en France\, Hongrie\, Pologne et Roumanie\, permettra de présenter certaines des conclusions qui se sont cristallisées dans les débats autour de cet important projet. Les thèmes de la conférence\, insuffisamment connus en France\, permettront de lancer un débat international sur l’avenir de l’Europe lorsque l’Ukraine sera reconnue comme candidate à l’adhésion à l’Union européenne.
URL:https://eurorbem.sorbonne-universite.fr/event/le-retour-du-tragique-en-europe/
LOCATION:Académie polonaise des Sciences\, 74\, rue Lauriston\, Paris\, 75116\, France
CATEGORIES:Colloques et Journées d'étude
ATTACH;FMTTYPE=image/jpeg:https://eurorbem.sorbonne-universite.fr/wp-content/uploads/2023/07/image001-2.jpg
END:VEVENT
BEGIN:VEVENT
DTSTART;TZID=Europe/Paris:20230525T083000
DTEND;TZID=Europe/Paris:20230526T170000
DTSTAMP:20260425T022723
CREATED:20230727T082034Z
LAST-MODIFIED:20230727T084657Z
UID:1271-1685003400-1685120400@eurorbem.sorbonne-universite.fr
SUMMARY:Les Balkans : laboratoire d’une littérature transnationale ?
DESCRIPTION:Le colloque réunira des enseignants-chercheurs (slavistes\, germanistes et comparatistes)\, mais aussi des traducteurs et auteurs\, et s’interrogera\, à partir des langues et des littératures qui s’emparent de l’espace (post-)yougoslave\, sur la constitution aujourd’hui d’un espace littéraire transnational. \nLe colloque compte présenter et interroger les nouvelles représentations et projections qui naissent en littérature\, notamment en allemand\, dans et sur cette région\, dans la perspective d’un paradigme transnational. La manifestation se déroulera en allemand.\n\nProgramme Balkan\n \nUn lien zoom pour chacune des interventions peut être demandé à l’adresse suivante :\nemmanuelle.terrones@univ-tours.fr
URL:https://eurorbem.sorbonne-universite.fr/event/les-balkans-laboratoire-dune-litterature-transnationale/
LOCATION:Université de Tours\, 60 rue du Plat D'Etain\, Tours\, 37000\, France
CATEGORIES:Colloques et Journées d'étude
ATTACH;FMTTYPE=image/jpeg:https://eurorbem.sorbonne-universite.fr/wp-content/uploads/2023/07/Programme-Balkan-1.jpg
END:VEVENT
END:VCALENDAR