BEGIN:VCALENDAR
VERSION:2.0
PRODID:-//EURORBEM - ECPv6.15.20//NONSGML v1.0//EN
CALSCALE:GREGORIAN
METHOD:PUBLISH
X-WR-CALNAME:EURORBEM
X-ORIGINAL-URL:https://eurorbem.sorbonne-universite.fr
X-WR-CALDESC:Évènements pour EURORBEM
REFRESH-INTERVAL;VALUE=DURATION:PT1H
X-Robots-Tag:noindex
X-PUBLISHED-TTL:PT1H
BEGIN:VTIMEZONE
TZID:Europe/Paris
BEGIN:DAYLIGHT
TZOFFSETFROM:+0100
TZOFFSETTO:+0200
TZNAME:CEST
DTSTART:20220327T010000
END:DAYLIGHT
BEGIN:STANDARD
TZOFFSETFROM:+0200
TZOFFSETTO:+0100
TZNAME:CET
DTSTART:20221030T010000
END:STANDARD
BEGIN:DAYLIGHT
TZOFFSETFROM:+0100
TZOFFSETTO:+0200
TZNAME:CEST
DTSTART:20230326T010000
END:DAYLIGHT
BEGIN:STANDARD
TZOFFSETFROM:+0200
TZOFFSETTO:+0100
TZNAME:CET
DTSTART:20231029T010000
END:STANDARD
BEGIN:DAYLIGHT
TZOFFSETFROM:+0100
TZOFFSETTO:+0200
TZNAME:CEST
DTSTART:20240331T010000
END:DAYLIGHT
BEGIN:STANDARD
TZOFFSETFROM:+0200
TZOFFSETTO:+0100
TZNAME:CET
DTSTART:20241027T010000
END:STANDARD
END:VTIMEZONE
BEGIN:VEVENT
DTSTART;TZID=Europe/Paris:20231106T080000
DTEND;TZID=Europe/Paris:20231106T170000
DTSTAMP:20260423T132411
CREATED:20231106T135949Z
LAST-MODIFIED:20231106T141031Z
UID:3546-1699257600-1699290000@eurorbem.sorbonne-universite.fr
SUMMARY:AAC : « Les archives sont fermées »  Réflexion collective sur l’accessibilité des archives documentant l’histoire russe\, soviétique et post-soviétique
DESCRIPTION:Journée d’étude \nMars 2024\, Institut d’études slaves \nL’invasion de l’Ukraine par la Russie a entraîné une interruption dans les recherches sur l’histoire de l’Empire russe et de l’Union soviétique. Les archives russes sont soudainement devenues inaccessibles aux chercheurs internationaux et il est probable que\, même après la guerre\, leur accessibilité ne sera pas comparable à celle\, déjà insatisfaisante\, des deux dernières décennies. Cette situation dissuade actuellement de nombreux jeunes chercheurs de s’investir dans l’étude de l’histoire de l’Europe orientale. \nLes archives russes\, leur centralisation et leur accessibilité constituent un cas topique en matière de réflexion postcoloniale. Encore aujourd’hui\, les collections essentielles à l’écriture de l’histoire ukrainienne ou biélorusse restent hébergées dans les archives de Moscou et de Saint-Pétersbourg. À terme\, le droit d’accès à ces collections\, qui revêtent une importance majeure pour la mémoire collective\, doit faire l’objet d’accords internationaux. \nNotre objectif est de faire un état des lieux des sources accessibles hors de Russie et des zones de conflit. Dans le vaste champ qui s’ouvre à nous\, nous entendons nous concentrer dans un premier temps sur les fonds consultables en France. \nLes axes que nous proposons pour les communications de cette journée d’étude sont les suivants : \n1)    Décrire un fonds ou une collection importante peut constituer en soi un sujet de communication. Néanmoins\, nous privilégierons les interventions qui proposeront une réflexion sur la provenance\, sur les droits d’accès et de publication des sources. Une attention spéciale sera accordée aux collections partagées – par exemple\, celles dont une partie se trouve en Russie\, et l’autre en France. \n2)    Apporter un regard critique sur la politique de rapatriement des archives menée par les autorités russes durant les deux dernières décennies. Le destin de ces archives (majoritairement des archives de l’émigration) reste méconnu\, les chercheurs considérant souvent qu’elles resteraient consultables en Russie. Le changement de situation exige aujourd’hui un état des lieux. \n3)    Dresser un inventaire des vastes collections de copies de documents provenant des archives russes déplacées à l’étranger au cours des deux dernières décennies. Un exemple pertinent serait la collection de Volkogonov\, qui comprend des copies de pièces inédites ainsi que des documents encore classifiés comme secrets. \n4)    Attirer l’attention sur les collections\, russes ou étrangères actuellement entièrement accessibles sur la Toile\, et poser la question de leur accessibilité future ainsi que des droits des utilisateurs. \nNous vous invitons à envoyer vos propositions avant le 1er novembre 2023 aux adresses suivantes : \naleksandr.lavrov@sorbonne-universite.fr \nnathalie.lereboullet@sorbonne-universite.fr \npousson.guilhem@gmail.com \nLes propositions doivent comporter le résumé en français\, en anglais ou en russe de votre communication (3000 signes).
URL:https://eurorbem.sorbonne-universite.fr/event/les-archives-sont-fermees-reflexion-collective-sur-laccessibilite-des-archives-documentant-lhistoire-russe-sovietique-et-post-sovietique/
CATEGORIES:Appels à communications,Colloques et Journées d'étude
END:VEVENT
BEGIN:VEVENT
DTSTART;VALUE=DATE:20231113
DTEND;VALUE=DATE:20231119
DTSTAMP:20260423T132411
CREATED:20231115T160731Z
LAST-MODIFIED:20231117T101727Z
UID:3684-1699833600-1700351999@eurorbem.sorbonne-universite.fr
SUMMARY:Semaine ukrainienne  à l'université Paris 8
DESCRIPTION:Programme
URL:https://eurorbem.sorbonne-universite.fr/event/semaine-ukrainienne-a-luniversite-paris-8/
CATEGORIES:Colloques et Journées d'étude,Conférences,Expositions
ATTACH;FMTTYPE=image/jpeg:https://eurorbem.sorbonne-universite.fr/wp-content/uploads/2023/11/programme_semaine_ukraine_23-1.jpg
END:VEVENT
BEGIN:VEVENT
DTSTART;TZID=Europe/Paris:20231116T130000
DTEND;TZID=Europe/Paris:20231117T170000
DTSTAMP:20260423T132411
CREATED:20231107T102125Z
LAST-MODIFIED:20231107T103338Z
UID:3571-1700139600-1700240400@eurorbem.sorbonne-universite.fr
SUMMARY:Doctoriales de l’Europe médiane\, de l’espace russe et (post-)soviétique (DEMEPS 2023) : "Rupture(s)"
DESCRIPTION:Programme DEMEPS 2023 \nEntrée libre sur présentation d’une pièce d’identité (dans la limite des places disponibles)
URL:https://eurorbem.sorbonne-universite.fr/event/doctoriales-de-leurope-mediane-de-lespace-russe-et-post-sovietique-demeps-2023-ruptures/
LOCATION:Le 16-11 à l’Inalco – Maison de la Recherche – Salon Borel – 1er étage (2\, rue de Lille – Paris 7e). Le 17-11 à l’Inalco – PLC – Amphi 6 (matin) et Amphi 1 (après-midi) – 1er étage (65\, rue des Grands Moulins – Paris 13e)
CATEGORIES:Colloques et Journées d'étude
END:VEVENT
BEGIN:VEVENT
DTSTART;TZID=Europe/Paris:20231123T100000
DTEND;TZID=Europe/Paris:20231123T180000
DTSTAMP:20260423T132411
CREATED:20231117T093513Z
LAST-MODIFIED:20231117T104639Z
UID:3692-1700733600-1700762400@eurorbem.sorbonne-universite.fr
SUMMARY:Un patrimoine alternatif en Russie : agents autres et pratiques nouvelles  Альтернативное наследие в России: иные агенты и новые практики
DESCRIPTION:Journée d’étude en russe \nProgramme\nContacts : ostrob@gmail.com |  cedric.pernette@sorbonne-universite.fr \nhttps://cnrs.zoom.us/j/95793046187?pwd=enZjTUdIVXpCdXFReFh4NWNaVE5adz09\nID de réunion: 957 9304 6187\nCode secret: TP5C8Y \n 
URL:https://eurorbem.sorbonne-universite.fr/event/un-patrimoine-alternatif-en-russie-agents-autres-et-pratiques-nouvelles-%d0%b0%d0%bb%d1%8c%d1%82%d0%b5%d1%80%d0%bd%d0%b0%d1%82%d0%b8%d0%b2%d0%bd%d0%be%d0%b5-%d0%bd%d0%b0%d1%81%d0%bb%d0%b5%d0%b4/
LOCATION:Institut d’études slaves – Salle de conférences\, 9 rue Michelet\, Paris\, 75006
CATEGORIES:Colloques et Journées d'étude
ATTACH;FMTTYPE=image/jpeg:https://eurorbem.sorbonne-universite.fr/wp-content/uploads/2023/11/AffichePatrimoine-Russie-def.jpg
END:VEVENT
END:VCALENDAR