BEGIN:VCALENDAR
VERSION:2.0
PRODID:-//EURORBEM - ECPv6.15.20//NONSGML v1.0//EN
CALSCALE:GREGORIAN
METHOD:PUBLISH
X-WR-CALNAME:EURORBEM
X-ORIGINAL-URL:https://eurorbem.sorbonne-universite.fr
X-WR-CALDESC:Évènements pour EURORBEM
REFRESH-INTERVAL;VALUE=DURATION:PT1H
X-Robots-Tag:noindex
X-PUBLISHED-TTL:PT1H
BEGIN:VTIMEZONE
TZID:Europe/Paris
BEGIN:DAYLIGHT
TZOFFSETFROM:+0100
TZOFFSETTO:+0200
TZNAME:CEST
DTSTART:20220327T010000
END:DAYLIGHT
BEGIN:STANDARD
TZOFFSETFROM:+0200
TZOFFSETTO:+0100
TZNAME:CET
DTSTART:20221030T010000
END:STANDARD
BEGIN:DAYLIGHT
TZOFFSETFROM:+0100
TZOFFSETTO:+0200
TZNAME:CEST
DTSTART:20230326T010000
END:DAYLIGHT
BEGIN:STANDARD
TZOFFSETFROM:+0200
TZOFFSETTO:+0100
TZNAME:CET
DTSTART:20231029T010000
END:STANDARD
BEGIN:DAYLIGHT
TZOFFSETFROM:+0100
TZOFFSETTO:+0200
TZNAME:CEST
DTSTART:20240331T010000
END:DAYLIGHT
BEGIN:STANDARD
TZOFFSETFROM:+0200
TZOFFSETTO:+0100
TZNAME:CET
DTSTART:20241027T010000
END:STANDARD
END:VTIMEZONE
BEGIN:VEVENT
DTSTART;VALUE=DATE:20231206
DTEND;VALUE=DATE:20231208
DTSTAMP:20260421T161422
CREATED:20231128T100826Z
LAST-MODIFIED:20231205T143908Z
UID:3823-1701820800-1701993599@eurorbem.sorbonne-universite.fr
SUMMARY:Le monde slave et la France : identité(s)\, interconnexion(s) et mémoire vivante au prisme des bibliothèques
DESCRIPTION:Programme\nLien zoom pour la journée du 6 décembre \nhttps://bnf-fr.zoom.us/j/97474133633?pwd=SWVKKzFzd3pEekV5cEZDVXM4V3hOdz09\nID de réunion: 974 7413 3633\nCode secret: 347259 \nRéservation conseillée\nhttps://www.bnf.fr/fr/agenda/le-monde-slave-et-la-france-identites-interconnexions-et-memoire-vivante-au-prisme-des \nhttps://www.bulac.fr/le-monde-slave-et-la-france-identites-interconnexions-et-memoire-vivante-au-prisme-des \n 
URL:https://eurorbem.sorbonne-universite.fr/event/le-monde-slave-et-la-france-identites-interconnexions-et-memoire-vivante-au-prisme-des-bibliotheques-2/
LOCATION:6 décembre : Bnf site Richelieu (salle des conférences) 5 rue Vivienne  75002 Paris – 7 décembre : BULAC (auditorium) 65 rue des Grands Moulins\, 75013 PARIS
CATEGORIES:Colloques et Journées d'étude
ATTACH;FMTTYPE=image/jpeg:https://eurorbem.sorbonne-universite.fr/wp-content/uploads/2023/11/Affiche-programme-colloque-Le-monde-slave-et-la-France_BnF-BULAC_6-7-decembre-2023-1.jpg
END:VEVENT
END:VCALENDAR