BEGIN:VCALENDAR
VERSION:2.0
PRODID:-//EURORBEM - ECPv6.15.20//NONSGML v1.0//EN
CALSCALE:GREGORIAN
METHOD:PUBLISH
X-WR-CALNAME:EURORBEM
X-ORIGINAL-URL:https://eurorbem.sorbonne-universite.fr
X-WR-CALDESC:Évènements pour EURORBEM
REFRESH-INTERVAL;VALUE=DURATION:PT1H
X-Robots-Tag:noindex
X-PUBLISHED-TTL:PT1H
BEGIN:VTIMEZONE
TZID:Europe/Paris
BEGIN:DAYLIGHT
TZOFFSETFROM:+0100
TZOFFSETTO:+0200
TZNAME:CEST
DTSTART:20230326T010000
END:DAYLIGHT
BEGIN:STANDARD
TZOFFSETFROM:+0200
TZOFFSETTO:+0100
TZNAME:CET
DTSTART:20231029T010000
END:STANDARD
BEGIN:DAYLIGHT
TZOFFSETFROM:+0100
TZOFFSETTO:+0200
TZNAME:CEST
DTSTART:20240331T010000
END:DAYLIGHT
BEGIN:STANDARD
TZOFFSETFROM:+0200
TZOFFSETTO:+0100
TZNAME:CET
DTSTART:20241027T010000
END:STANDARD
BEGIN:DAYLIGHT
TZOFFSETFROM:+0100
TZOFFSETTO:+0200
TZNAME:CEST
DTSTART:20250330T010000
END:DAYLIGHT
BEGIN:STANDARD
TZOFFSETFROM:+0200
TZOFFSETTO:+0100
TZNAME:CET
DTSTART:20251026T010000
END:STANDARD
END:VTIMEZONE
BEGIN:VEVENT
DTSTART;TZID=Europe/Paris:20240607T090000
DTEND;TZID=Europe/Paris:20240607T173000
DTSTAMP:20260420T192900
CREATED:20240510T133444Z
LAST-MODIFIED:20240510T134107Z
UID:4448-1717750800-1717781400@eurorbem.sorbonne-universite.fr
SUMMARY:Les langues slaves en synchronie et en diachronie
DESCRIPTION:Cette journée d’études annuelle a pour vocation de réunir à la fois des slavistes confirmés du monde entier et des jeunes chercheurs français travaillant sur différentes langues slaves. Nous visons donc une certaine diversité aussi bien au niveau des chercheurs eux-mêmes que des langues au centre de cette journée. Les chercheurs présenteront les avancées dans différents domaines\, partageront leurs découvertes\, échangeront des points de vue sur différents problèmes de linguistique slave. Cette année\, les neuf exposés porteront sur des domaines assez variés ; ceci ira de questions d’écriture à propos de l’alphabet slave\, ou de l’interprétation d’inscriptions sur des écorces de bouleau découvertes récemment\, jusqu’à des problèmes de syntaxe avec les verbes de mouvement tchèques et russes\, en abordant par ailleurs également des points proches de la dialectologie avec les différents standards en BCMS. \nProgramme JE \nContact : natalia.bernitskaia@inalco.fr
URL:https://eurorbem.sorbonne-universite.fr/event/les-langues-slaves-en-synchronie-et-en-diachronie/
LOCATION:INALCO – Maison de la recherche\, 2 rue de Lille\, Paris\, France
CATEGORIES:Colloques et Journées d'étude
ATTACH;FMTTYPE=image/jpeg:https://eurorbem.sorbonne-universite.fr/wp-content/uploads/2024/05/Programme-journee-detudes-du-7-juin-2024-1.jpg
END:VEVENT
BEGIN:VEVENT
DTSTART;TZID=Europe/Paris:20240615T090000
DTEND;TZID=Europe/Paris:20240615T180000
DTSTAMP:20260420T192900
CREATED:20240605T143544Z
LAST-MODIFIED:20240605T143908Z
UID:4527-1718442000-1718474400@eurorbem.sorbonne-universite.fr
SUMMARY:Le Défi au XIXe siècle
DESCRIPTION:Doctoriales SERD \nProgramme
URL:https://eurorbem.sorbonne-universite.fr/event/le-defi-au-xixe-siecle/
LOCATION:Bibliothèque Jacques Seebacher (Paris Cité – Campus des Grands Moulins)\, 9 rue Thomas Mann\, Paris\, 75013\, France
CATEGORIES:Colloques et Journées d'étude
ATTACH;FMTTYPE=image/jpeg:https://eurorbem.sorbonne-universite.fr/wp-content/uploads/2024/06/LE-DEFI-doctoriales-SERD-1.jpg
END:VEVENT
BEGIN:VEVENT
DTSTART;VALUE=DATE:20240617
DTEND;VALUE=DATE:20240619
DTSTAMP:20260420T192900
CREATED:20240612T113857Z
LAST-MODIFIED:20240612T121627Z
UID:4593-1718582400-1718755199@eurorbem.sorbonne-universite.fr
SUMMARY:Acts of witnessing on Film /  Témoigner par et avec le cinéma
DESCRIPTION:Programme\nInscription : https://www.aup.edu/news-events/event/2024-06-17/acts-witnessing-film
URL:https://eurorbem.sorbonne-universite.fr/event/acts-of-witnessing-on-film/
LOCATION:Université américaine de Paris | Salle Q-801\, 6 rue du Colonel Combes\, Paris\, 75007\, France
CATEGORIES:Colloques et Journées d'étude
ATTACH;FMTTYPE=image/jpeg:https://eurorbem.sorbonne-universite.fr/wp-content/uploads/2024/06/2024-Witness-on-Film-Program-Final1-1.jpg
END:VEVENT
BEGIN:VEVENT
DTSTART;TZID=Europe/Paris:20240620T140000
DTEND;TZID=Europe/Paris:20240621T180000
DTSTAMP:20260420T192900
CREATED:20240604T164135Z
LAST-MODIFIED:20240614T115251Z
UID:4518-1718892000-1718992800@eurorbem.sorbonne-universite.fr
SUMMARY:Against the Norm: Disability Studies in Eastern Slavic Literature\, Film\, and Culture
DESCRIPTION:Programme\nInscription obligatoire : aurelie.rouget-garma@sorbonne-universite.fr \n 
URL:https://eurorbem.sorbonne-universite.fr/event/against-the-norm-disability-studies-in-eastern-slavic-literature-film-and-culture/
LOCATION:En Sorbonne Amphi Cauchy\, 17 rue de la Sorbonne\, Paris\, 75005\, France
CATEGORIES:Colloques et Journées d'étude
ATTACH;FMTTYPE=image/jpeg:https://eurorbem.sorbonne-universite.fr/wp-content/uploads/2024/06/Affiche-colloque-Against-The-Norm-20-21-juin-2024-def.jpg
END:VEVENT
END:VCALENDAR