BEGIN:VCALENDAR
VERSION:2.0
PRODID:-//EURORBEM - ECPv6.15.20//NONSGML v1.0//EN
CALSCALE:GREGORIAN
METHOD:PUBLISH
X-ORIGINAL-URL:https://eurorbem.sorbonne-universite.fr
X-WR-CALDESC:Évènements pour EURORBEM
REFRESH-INTERVAL;VALUE=DURATION:PT1H
X-Robots-Tag:noindex
X-PUBLISHED-TTL:PT1H
BEGIN:VTIMEZONE
TZID:Europe/Paris
BEGIN:DAYLIGHT
TZOFFSETFROM:+0100
TZOFFSETTO:+0200
TZNAME:CEST
DTSTART:20170326T010000
END:DAYLIGHT
BEGIN:STANDARD
TZOFFSETFROM:+0200
TZOFFSETTO:+0100
TZNAME:CET
DTSTART:20171029T010000
END:STANDARD
BEGIN:DAYLIGHT
TZOFFSETFROM:+0100
TZOFFSETTO:+0200
TZNAME:CEST
DTSTART:20180325T010000
END:DAYLIGHT
BEGIN:STANDARD
TZOFFSETFROM:+0200
TZOFFSETTO:+0100
TZNAME:CET
DTSTART:20181028T010000
END:STANDARD
BEGIN:DAYLIGHT
TZOFFSETFROM:+0100
TZOFFSETTO:+0200
TZNAME:CEST
DTSTART:20190331T010000
END:DAYLIGHT
BEGIN:STANDARD
TZOFFSETFROM:+0200
TZOFFSETTO:+0100
TZNAME:CET
DTSTART:20191027T010000
END:STANDARD
END:VTIMEZONE
BEGIN:VEVENT
DTSTART;TZID=Europe/Paris:20181004T173000
DTEND;TZID=Europe/Paris:20181004T193000
DTSTAMP:20260424T175628
CREATED:20230817T105207Z
LAST-MODIFIED:20230817T105516Z
UID:2482-1538674200-1538681400@eurorbem.sorbonne-universite.fr
SUMMARY:Séminaire commun Cultures populaires\, cultures savantes
DESCRIPTION:Boris Czerny\, Comment constituer le dossier de candidature aux concours chercheurs CNRS : conseils aux jeunes chercheurs. \nPrésentation de l’actualité éditoriale : Boris Czerny Contes et récits juif et ukrainiens du pays houtsoule\, Paris\, Petra\, 2018\, Marie-Christine Autant-Mathieu : Ce que l’on peut apprendre du  théâtre  de  Stanislavski :  pour  le  150e  anniversaire  de  sa  naissance\,  coll.     Texte(s)\, \nEur’Orbem Éditions\, 2018 et Mateusz Chmurski : Journal\, fiction\, identité(s). Modernité littéraire en Europe centrale (1890-1920) à travers les œuvres de Géza Csáth\, Karol Irzykowski et Ladislav Klíma\, Paris\, coll. Texte(s)\, Eur’Orbem Éditions\, 2018. \nProgramme Séminaire commun 2018-2019
URL:https://eurorbem.sorbonne-universite.fr/event/seminaire-commun-cultures-populaires-cultures-savantes/
LOCATION:Centre d’études slaves – Salle conférences\, 9 rue Michelet\, Paris\, 75006\, France
CATEGORIES:Séminaires
END:VEVENT
END:VCALENDAR