BEGIN:VCALENDAR
VERSION:2.0
PRODID:-//EURORBEM - ECPv6.15.20//NONSGML v1.0//EN
CALSCALE:GREGORIAN
METHOD:PUBLISH
X-WR-CALNAME:EURORBEM
X-ORIGINAL-URL:https://eurorbem.sorbonne-universite.fr
X-WR-CALDESC:Évènements pour EURORBEM
REFRESH-INTERVAL;VALUE=DURATION:PT1H
X-Robots-Tag:noindex
X-PUBLISHED-TTL:PT1H
BEGIN:VTIMEZONE
TZID:Europe/Paris
BEGIN:DAYLIGHT
TZOFFSETFROM:+0100
TZOFFSETTO:+0200
TZNAME:CEST
DTSTART:20170326T010000
END:DAYLIGHT
BEGIN:STANDARD
TZOFFSETFROM:+0200
TZOFFSETTO:+0100
TZNAME:CET
DTSTART:20171029T010000
END:STANDARD
BEGIN:DAYLIGHT
TZOFFSETFROM:+0100
TZOFFSETTO:+0200
TZNAME:CEST
DTSTART:20180325T010000
END:DAYLIGHT
BEGIN:STANDARD
TZOFFSETFROM:+0200
TZOFFSETTO:+0100
TZNAME:CET
DTSTART:20181028T010000
END:STANDARD
BEGIN:DAYLIGHT
TZOFFSETFROM:+0100
TZOFFSETTO:+0200
TZNAME:CEST
DTSTART:20190331T010000
END:DAYLIGHT
BEGIN:STANDARD
TZOFFSETFROM:+0200
TZOFFSETTO:+0100
TZNAME:CET
DTSTART:20191027T010000
END:STANDARD
END:VTIMEZONE
BEGIN:VEVENT
DTSTART;TZID=Europe/Paris:20181206T173000
DTEND;TZID=Europe/Paris:20181206T193000
DTSTAMP:20260423T174635
CREATED:20230817T105848Z
LAST-MODIFIED:20230817T105944Z
UID:2494-1544117400-1544124600@eurorbem.sorbonne-universite.fr
SUMMARY:Séminaire commun Cultures populaires\, cultures savantes
DESCRIPTION:Daniel Baric : « De la Bohême à l’Adriatique et retour : l’invention de la topographie du patrimoine centre-européen – paradigme impérial et contingences nationales (1900-1945) »\nSacha Markovic présentation du chantier de recherche PHC « Les rapports franco-serbes dans le domaine des relations diplomatiques et  des  représentations  médiatiques : perspectives historiques et défis actuels\n\nProgramme Séminaire commun 2018-2019 \n 
URL:https://eurorbem.sorbonne-universite.fr/event/seminaire-commun-cultures-populaires-cultures-savantes-2/
LOCATION:Centre d’études slaves – Salle conférences\, 9 rue Michelet\, Paris\, 75006\, France
CATEGORIES:Séminaires
END:VEVENT
END:VCALENDAR