BEGIN:VCALENDAR
VERSION:2.0
PRODID:-//EURORBEM - ECPv6.15.20//NONSGML v1.0//EN
CALSCALE:GREGORIAN
METHOD:PUBLISH
X-WR-CALNAME:EURORBEM
X-ORIGINAL-URL:https://eurorbem.sorbonne-universite.fr
X-WR-CALDESC:Évènements pour EURORBEM
REFRESH-INTERVAL;VALUE=DURATION:PT1H
X-Robots-Tag:noindex
X-PUBLISHED-TTL:PT1H
BEGIN:VTIMEZONE
TZID:Europe/Paris
BEGIN:DAYLIGHT
TZOFFSETFROM:+0100
TZOFFSETTO:+0200
TZNAME:CEST
DTSTART:20180325T010000
END:DAYLIGHT
BEGIN:STANDARD
TZOFFSETFROM:+0200
TZOFFSETTO:+0100
TZNAME:CET
DTSTART:20181028T010000
END:STANDARD
BEGIN:DAYLIGHT
TZOFFSETFROM:+0100
TZOFFSETTO:+0200
TZNAME:CEST
DTSTART:20190331T010000
END:DAYLIGHT
BEGIN:STANDARD
TZOFFSETFROM:+0200
TZOFFSETTO:+0100
TZNAME:CET
DTSTART:20191027T010000
END:STANDARD
BEGIN:DAYLIGHT
TZOFFSETFROM:+0100
TZOFFSETTO:+0200
TZNAME:CEST
DTSTART:20200329T010000
END:DAYLIGHT
BEGIN:STANDARD
TZOFFSETFROM:+0200
TZOFFSETTO:+0100
TZNAME:CET
DTSTART:20201025T010000
END:STANDARD
END:VTIMEZONE
BEGIN:VEVENT
DTSTART;TZID=Europe/Paris:20190613T170000
DTEND;TZID=Europe/Paris:20190613T193000
DTSTAMP:20260422T190115
CREATED:20230817T110844Z
LAST-MODIFIED:20230817T111315Z
UID:2510-1560445200-1560454200@eurorbem.sorbonne-universite.fr
SUMMARY:Séminaire commun Cultures populaires\, cultures savantes
DESCRIPTION:Marie-Christine Autant-Mathieu « La “cirquisation” du théâtre en URSS dans les années 1920 »\, « La notion de “théâtre populaire” au  TNP  de  Vilar  et  de  “théâtre élitaire pour tous” selon A. Vitez » \nProgramme Séminaire commun 2018-2019
URL:https://eurorbem.sorbonne-universite.fr/event/seminaire-commun-cultures-populaires-cultures-savantes-7/
LOCATION:Centre d’études slaves – Salle conférences\, 9 rue Michelet\, Paris\, 75006\, France
CATEGORIES:Séminaires
END:VEVENT
END:VCALENDAR