BEGIN:VCALENDAR
VERSION:2.0
PRODID:-//EURORBEM - ECPv6.15.20//NONSGML v1.0//EN
CALSCALE:GREGORIAN
METHOD:PUBLISH
X-ORIGINAL-URL:https://eurorbem.sorbonne-universite.fr
X-WR-CALDESC:Évènements pour EURORBEM
REFRESH-INTERVAL;VALUE=DURATION:PT1H
X-Robots-Tag:noindex
X-PUBLISHED-TTL:PT1H
BEGIN:VTIMEZONE
TZID:Europe/Paris
BEGIN:DAYLIGHT
TZOFFSETFROM:+0100
TZOFFSETTO:+0200
TZNAME:CEST
DTSTART:20180325T010000
END:DAYLIGHT
BEGIN:STANDARD
TZOFFSETFROM:+0200
TZOFFSETTO:+0100
TZNAME:CET
DTSTART:20181028T010000
END:STANDARD
BEGIN:DAYLIGHT
TZOFFSETFROM:+0100
TZOFFSETTO:+0200
TZNAME:CEST
DTSTART:20190331T010000
END:DAYLIGHT
BEGIN:STANDARD
TZOFFSETFROM:+0200
TZOFFSETTO:+0100
TZNAME:CET
DTSTART:20191027T010000
END:STANDARD
BEGIN:DAYLIGHT
TZOFFSETFROM:+0100
TZOFFSETTO:+0200
TZNAME:CEST
DTSTART:20200329T010000
END:DAYLIGHT
BEGIN:STANDARD
TZOFFSETFROM:+0200
TZOFFSETTO:+0100
TZNAME:CET
DTSTART:20201025T010000
END:STANDARD
END:VTIMEZONE
BEGIN:VEVENT
DTSTART;TZID=Europe/Paris:20191107T173000
DTEND;TZID=Europe/Paris:20191107T193000
DTSTAMP:20260422T093940
CREATED:20230816T175526Z
LAST-MODIFIED:20230816T175705Z
UID:2391-1573147800-1573155000@eurorbem.sorbonne-universite.fr
SUMMARY:Séminaire commun - Texte(s) et contexte(s)
DESCRIPTION:Audrey Kichelewski (Université de Strasbourg) : « Entre justice\, histoire et mémoire : les procès de criminels de guerre en Pologne populaire (1958-1989) »\n\n\n\n  \n\nRoman Krakovsky (Université de Genève) : « Le populisme en Europe centrale »\n\nProgramme 2019-2020
URL:https://eurorbem.sorbonne-universite.fr/event/seminaire-commun-textes-et-contextes-2/
LOCATION:Centre d’études slaves – Salle conférences\, 9 rue Michelet\, Paris\, 75006\, France
CATEGORIES:Séminaires
END:VEVENT
BEGIN:VEVENT
DTSTART;TZID=Europe/Paris:20191114T170000
DTEND;TZID=Europe/Paris:20191114T190000
DTSTAMP:20260422T093940
CREATED:20230817T130102Z
LAST-MODIFIED:20230817T130157Z
UID:2600-1573750800-1573758000@eurorbem.sorbonne-universite.fr
SUMMARY:Séminaire Histoire de la littérature russe
DESCRIPTION:Alexeï Evstratov (Université de Lausanne) \n« La (re)production littéraire en débat : le monde littéraire face aux changements techniques au XIXe siècle »
URL:https://eurorbem.sorbonne-universite.fr/event/seminaire-histoire-de-la-litterature-russe-28/
LOCATION:Centre d’études slaves – Salle conférences\, 9 rue Michelet\, Paris\, 75006\, France
CATEGORIES:Séminaires
END:VEVENT
BEGIN:VEVENT
DTSTART;TZID=Europe/Paris:20191121T170000
DTEND;TZID=Europe/Paris:20191121T190000
DTSTAMP:20260422T093940
CREATED:20230817T130242Z
LAST-MODIFIED:20230817T130341Z
UID:2602-1574355600-1574362800@eurorbem.sorbonne-universite.fr
SUMMARY:Séminaire Histoire de la littérature russe
DESCRIPTION:Catherine Géry (Inalco) \n« Une histoire des écrivaines russes au XIXe siècle est-elle possible ? »
URL:https://eurorbem.sorbonne-universite.fr/event/seminaire-histoire-de-la-litterature-russe-29/
LOCATION:Centre d’études slaves – Salle conférences\, 9 rue Michelet\, Paris\, 75006\, France
CATEGORIES:Séminaires
END:VEVENT
BEGIN:VEVENT
DTSTART;TZID=Europe/Paris:20191129T170000
DTEND;TZID=Europe/Paris:20191129T190000
DTSTAMP:20260422T093940
CREATED:20230817T130410Z
LAST-MODIFIED:20230817T130614Z
UID:2604-1575046800-1575054000@eurorbem.sorbonne-universite.fr
SUMMARY:Séminaire Histoire de la littérature russe
DESCRIPTION:Margarita Vaysman (University of St Andrews) \n« Blindspots of a Theory\, or the Curious Case of Nineteenth-Century Russian Metafiction »
URL:https://eurorbem.sorbonne-universite.fr/event/seminaire-histoire-de-la-litterature-russe-30/
LOCATION:Centre d’études slaves – Salle conférences\, 9 rue Michelet\, Paris\, 75006\, France
CATEGORIES:Séminaires
END:VEVENT
END:VCALENDAR