BEGIN:VCALENDAR
VERSION:2.0
PRODID:-//EURORBEM - ECPv6.15.20//NONSGML v1.0//EN
CALSCALE:GREGORIAN
METHOD:PUBLISH
X-WR-CALNAME:EURORBEM
X-ORIGINAL-URL:https://eurorbem.sorbonne-universite.fr
X-WR-CALDESC:Évènements pour EURORBEM
REFRESH-INTERVAL;VALUE=DURATION:PT1H
X-Robots-Tag:noindex
X-PUBLISHED-TTL:PT1H
BEGIN:VTIMEZONE
TZID:Europe/Paris
BEGIN:DAYLIGHT
TZOFFSETFROM:+0100
TZOFFSETTO:+0200
TZNAME:CEST
DTSTART:20190331T010000
END:DAYLIGHT
BEGIN:STANDARD
TZOFFSETFROM:+0200
TZOFFSETTO:+0100
TZNAME:CET
DTSTART:20191027T010000
END:STANDARD
BEGIN:DAYLIGHT
TZOFFSETFROM:+0100
TZOFFSETTO:+0200
TZNAME:CEST
DTSTART:20200329T010000
END:DAYLIGHT
BEGIN:STANDARD
TZOFFSETFROM:+0200
TZOFFSETTO:+0100
TZNAME:CET
DTSTART:20201025T010000
END:STANDARD
BEGIN:DAYLIGHT
TZOFFSETFROM:+0100
TZOFFSETTO:+0200
TZNAME:CEST
DTSTART:20210328T010000
END:DAYLIGHT
BEGIN:STANDARD
TZOFFSETFROM:+0200
TZOFFSETTO:+0100
TZNAME:CET
DTSTART:20211031T010000
END:STANDARD
END:VTIMEZONE
BEGIN:VEVENT
DTSTART;TZID=Europe/Paris:20200204T110000
DTEND;TZID=Europe/Paris:20200204T123000
DTSTAMP:20260421T130013
CREATED:20230816T142502Z
LAST-MODIFIED:20230816T142502Z
UID:2250-1580814000-1580819400@eurorbem.sorbonne-universite.fr
SUMMARY:Séminaire Créations dépaysées
DESCRIPTION:Markéta Theinhardt & Clara Royer \nIntroduction théorique \nProgramme 2020
URL:https://eurorbem.sorbonne-universite.fr/event/seminaire-creations-depaysees-18/
LOCATION:Centre Malesherbes – Amphi 117\, 108\, bd Malesherbes\, Paris\, 75017\, France
CATEGORIES:Séminaires
ATTACH;FMTTYPE=image/jpeg:https://eurorbem.sorbonne-universite.fr/wp-content/uploads/2023/08/Affiche-Creations-depaysees-2020_DEF-copie-1.jpg
END:VEVENT
BEGIN:VEVENT
DTSTART;TZID=Europe/Paris:20200206T170000
DTEND;TZID=Europe/Paris:20200206T190000
DTSTAMP:20260421T130013
CREATED:20230817T114209Z
LAST-MODIFIED:20230817T114527Z
UID:2536-1581008400-1581015600@eurorbem.sorbonne-universite.fr
SUMMARY:Séminaire Histoire de la littérature russe
DESCRIPTION:Serge Rolet (Université de Lille)\nPrésentation de son ouvrage Qu’est-ce que la littérature russe ? \nLoïk Maille (Université Paris Ouest) : « James Fenimore Cooper et Léon Tolstoï : aux frontières de l’identité » \nProgramme 2019-2020 S2
URL:https://eurorbem.sorbonne-universite.fr/event/seminaire-histoire-de-la-litterature-russe-9/
LOCATION:Centre d’études slaves – Salle conférences\, 9 rue Michelet\, Paris\, 75006\, France
CATEGORIES:Séminaires
END:VEVENT
BEGIN:VEVENT
DTSTART;TZID=Europe/Paris:20200213T110000
DTEND;TZID=Europe/Paris:20200213T123000
DTSTAMP:20260421T130013
CREATED:20230816T142538Z
LAST-MODIFIED:20230816T142730Z
UID:2254-1581591600-1581597000@eurorbem.sorbonne-universite.fr
SUMMARY:Séminaire Créations dépaysées
DESCRIPTION:Markéta Theinhardt (SU) \nUn artiste tchèque à Paris : František Kupka et l’internationale de l’Abstraction-Création \nProgramme 2020
URL:https://eurorbem.sorbonne-universite.fr/event/seminaire-creations-depaysees-19/
LOCATION:Centre Malesherbes – Amphi 117\, 108\, bd Malesherbes\, Paris\, 75017\, France
CATEGORIES:Séminaires
ATTACH;FMTTYPE=image/jpeg:https://eurorbem.sorbonne-universite.fr/wp-content/uploads/2023/08/Affiche-Creations-depaysees-2020_DEF-copie-1.jpg
END:VEVENT
BEGIN:VEVENT
DTSTART;TZID=Europe/Paris:20200213T170000
DTEND;TZID=Europe/Paris:20200213T190000
DTSTAMP:20260421T130013
CREATED:20230817T114715Z
LAST-MODIFIED:20230817T114821Z
UID:2544-1581613200-1581620400@eurorbem.sorbonne-universite.fr
SUMMARY:Séminaire Histoire de la littérature russe
DESCRIPTION:Michela Venditti (Università degli studi di Napoli\, l’Orientale)\n« La typologie intertextuelle des premiers récit de Gaïto Gazdanov : Zamiatine\, Baudelaire\, Maupassant ». (en russe) \nProgramme 2019-2020 S2
URL:https://eurorbem.sorbonne-universite.fr/event/seminaire-histoire-de-la-litterature-russe-10/
LOCATION:Centre d’études slaves – Salle conférences\, 9 rue Michelet\, Paris\, 75006\, France
CATEGORIES:Séminaires
END:VEVENT
BEGIN:VEVENT
DTSTART;TZID=Europe/Paris:20200227T110000
DTEND;TZID=Europe/Paris:20200227T123000
DTSTAMP:20260421T130013
CREATED:20230816T142815Z
LAST-MODIFIED:20230816T143011Z
UID:2257-1582801200-1582806600@eurorbem.sorbonne-universite.fr
SUMMARY:Séminaire Créations dépaysées
DESCRIPTION:Clara Royer (SU) \n Comment écrire hors de Hongrie ? Écrivains en exil au XXe siècle (1919-1989) \nProgramme 2020
URL:https://eurorbem.sorbonne-universite.fr/event/seminaire-creations-depaysees-20/
LOCATION:Centre Malesherbes – Amphi 117\, 108\, bd Malesherbes\, Paris\, 75017\, France
CATEGORIES:Séminaires
ATTACH;FMTTYPE=image/jpeg:https://eurorbem.sorbonne-universite.fr/wp-content/uploads/2023/08/Affiche-Creations-depaysees-2020_DEF-copie-1.jpg
END:VEVENT
BEGIN:VEVENT
DTSTART;TZID=Europe/Paris:20200227T173000
DTEND;TZID=Europe/Paris:20200227T193000
DTSTAMP:20260421T130013
CREATED:20230816T180602Z
LAST-MODIFIED:20230816T180713Z
UID:2408-1582824600-1582831800@eurorbem.sorbonne-universite.fr
SUMMARY:Séminaire commun – Texte(s) et contexte(s)
DESCRIPTION:Xavier Galmiche (Sorbonne Université) et Alfrun Kliems (Humboldt- Universität zu Berlin) sur le programme « Spiritualités alternatives en Europe centrale » \nProgramme 2019-2020
URL:https://eurorbem.sorbonne-universite.fr/event/seminaire-commun-textes-et-contextes-3/
LOCATION:Centre d’études slaves – Salle conférences\, 9 rue Michelet\, Paris\, 75006\, France
CATEGORIES:Séminaires
END:VEVENT
END:VCALENDAR