BEGIN:VCALENDAR
VERSION:2.0
PRODID:-//EURORBEM - ECPv6.15.20//NONSGML v1.0//EN
CALSCALE:GREGORIAN
METHOD:PUBLISH
X-WR-CALNAME:EURORBEM
X-ORIGINAL-URL:https://eurorbem.sorbonne-universite.fr
X-WR-CALDESC:Évènements pour EURORBEM
REFRESH-INTERVAL;VALUE=DURATION:PT1H
X-Robots-Tag:noindex
X-PUBLISHED-TTL:PT1H
BEGIN:VTIMEZONE
TZID:Europe/Paris
BEGIN:DAYLIGHT
TZOFFSETFROM:+0100
TZOFFSETTO:+0200
TZNAME:CEST
DTSTART:20190331T010000
END:DAYLIGHT
BEGIN:STANDARD
TZOFFSETFROM:+0200
TZOFFSETTO:+0100
TZNAME:CET
DTSTART:20191027T010000
END:STANDARD
BEGIN:DAYLIGHT
TZOFFSETFROM:+0100
TZOFFSETTO:+0200
TZNAME:CEST
DTSTART:20200329T010000
END:DAYLIGHT
BEGIN:STANDARD
TZOFFSETFROM:+0200
TZOFFSETTO:+0100
TZNAME:CET
DTSTART:20201025T010000
END:STANDARD
BEGIN:DAYLIGHT
TZOFFSETFROM:+0100
TZOFFSETTO:+0200
TZNAME:CEST
DTSTART:20210328T010000
END:DAYLIGHT
BEGIN:STANDARD
TZOFFSETFROM:+0200
TZOFFSETTO:+0100
TZNAME:CET
DTSTART:20211031T010000
END:STANDARD
END:VTIMEZONE
BEGIN:VEVENT
DTSTART;TZID=Europe/Paris:20200401T130000
DTEND;TZID=Europe/Paris:20200401T150000
DTSTAMP:20260420T200456
CREATED:20230816T165826Z
LAST-MODIFIED:20230816T171331Z
UID:2340-1585746000-1585753200@eurorbem.sorbonne-universite.fr
SUMMARY:Séminaire Histoire des idées  Penser le samizdat
DESCRIPTION:Présentation du Dictionnaire des penseurs de l’Europe centrale\, ed. du Cerf \nDiscutant : Xavier Galmiche \nhttps://zoom.us/j/96855677376?pwd=eVkvM2hpTXFjVGpiOGZ1VlFEbmlSZz09 \nID de réunion : 968 5567 7376\nCode secret : 16x2pW \nProgramme Histoire des idées 2021
URL:https://eurorbem.sorbonne-universite.fr/event/seminaire-histoire-des-idees-penser-le-samizdat-7/
LOCATION:Centre d’études slaves – Salle conférences\, 9 rue Michelet\, Paris\, 75006\, France
CATEGORIES:Séminaires
ATTACH;FMTTYPE=image/jpeg:https://eurorbem.sorbonne-universite.fr/wp-content/uploads/2023/08/Affiche-Penser-le-samizdat.jpg
END:VEVENT
BEGIN:VEVENT
DTSTART;TZID=Europe/Paris:20200408T130000
DTEND;TZID=Europe/Paris:20200408T150000
DTSTAMP:20260420T200456
CREATED:20230816T170023Z
LAST-MODIFIED:20230816T171251Z
UID:2342-1586350800-1586358000@eurorbem.sorbonne-universite.fr
SUMMARY:Séminaire Histoire des idées  Penser le samizdat
DESCRIPTION:Claudia Peralli (Università degli Studi di Firenze)\n\nTypologie des parcours d’acteurs du samizdat sur le nouveau portail « Free Voices in USSR » \nLuba Jurgenson (Sorbonne Université) \nSortir du samizdat: le dissident face à la disparition du discours officiel et de l’économie socialiste \nhttps://zoom.us/j/96855677376?pwd=eVkvM2hpTXFjVGpiOGZ1VlFEbmlSZz09 \nID de réunion : 968 5567 7376\nCode secret : 16x2pW \nProgramme Histoire des idées 2021
URL:https://eurorbem.sorbonne-universite.fr/event/seminaire-histoire-des-idees-penser-le-samizdat-8/
LOCATION:Centre Malesherbes – Amphi 117\, 108\, bd Malesherbes\, Paris\, 75017\, France
CATEGORIES:Séminaires
ATTACH;FMTTYPE=image/jpeg:https://eurorbem.sorbonne-universite.fr/wp-content/uploads/2023/08/Affiche-Penser-le-samizdat.jpg
END:VEVENT
BEGIN:VEVENT
DTSTART;TZID=Europe/Paris:20200422T170000
DTEND;TZID=Europe/Paris:20200422T190000
DTSTAMP:20260420T200456
CREATED:20230817T115301Z
LAST-MODIFIED:20230821T153651Z
UID:2556-1587574800-1587582000@eurorbem.sorbonne-universite.fr
SUMMARY:Séminaire Histoire de la littérature russe
DESCRIPTION:Loïk Maille (Université Paris Ouest)\n« James Fenimore Cooper et Léon Tolstoï : aux frontières de l’identité » \nProgramme 2019-2020 S2
URL:https://eurorbem.sorbonne-universite.fr/event/seminaire-histoire-de-la-litterature-russe-13/
LOCATION:Centre d’études slaves – Salle conférences\, 9 rue Michelet\, Paris\, 75006\, France
CATEGORIES:Séminaires
END:VEVENT
END:VCALENDAR