BEGIN:VCALENDAR
VERSION:2.0
PRODID:-//EURORBEM - ECPv6.15.20//NONSGML v1.0//EN
CALSCALE:GREGORIAN
METHOD:PUBLISH
X-ORIGINAL-URL:https://eurorbem.sorbonne-universite.fr
X-WR-CALDESC:Évènements pour EURORBEM
REFRESH-INTERVAL;VALUE=DURATION:PT1H
X-Robots-Tag:noindex
X-PUBLISHED-TTL:PT1H
BEGIN:VTIMEZONE
TZID:Europe/Paris
BEGIN:DAYLIGHT
TZOFFSETFROM:+0100
TZOFFSETTO:+0200
TZNAME:CEST
DTSTART:20240331T010000
END:DAYLIGHT
BEGIN:STANDARD
TZOFFSETFROM:+0200
TZOFFSETTO:+0100
TZNAME:CET
DTSTART:20241027T010000
END:STANDARD
BEGIN:DAYLIGHT
TZOFFSETFROM:+0100
TZOFFSETTO:+0200
TZNAME:CEST
DTSTART:20250330T010000
END:DAYLIGHT
BEGIN:STANDARD
TZOFFSETFROM:+0200
TZOFFSETTO:+0100
TZNAME:CET
DTSTART:20251026T010000
END:STANDARD
BEGIN:DAYLIGHT
TZOFFSETFROM:+0100
TZOFFSETTO:+0200
TZNAME:CEST
DTSTART:20260329T010000
END:DAYLIGHT
BEGIN:STANDARD
TZOFFSETFROM:+0200
TZOFFSETTO:+0100
TZNAME:CET
DTSTART:20261025T010000
END:STANDARD
END:VTIMEZONE
BEGIN:VEVENT
DTSTART;TZID=Europe/Paris:20250506T173000
DTEND;TZID=Europe/Paris:20250506T193000
DTSTAMP:20260420T022200
CREATED:20241002T071231Z
LAST-MODIFIED:20250502T104543Z
UID:4923-1746552600-1746559800@eurorbem.sorbonne-universite.fr
SUMMARY:Le patrimoine culturel face à la guerre / Critical Heritage Studies in the Post-Socialist Space
DESCRIPTION:Dissonant Heritage of the “Special Military Operation” (SVO) in Russia\n \nTable ronde avec :\nAlexandra ARKHIPOVA (chercheuse indépendante\, Paris)\,\nSvetlana EREMEEVA (chercheuse indépendante\, Tbilissi)\,\nAlexandra POLIVANOVA (Memorial international)\, &\nAnastasia SERIKOVA (Bielefeld University) \nArgumentaire \nDemande lien Zoom : Alexandra Kolesnik  aleksandra.kolesnik@uni-bielefeld.de \nProgramme 2024-2025 \n 
URL:https://eurorbem.sorbonne-universite.fr/event/4923/
LOCATION:Maison de la Recherche – Sorbonne Université\, 28 Rue Serpente\, Paris\, 75006\, France
CATEGORIES:Séminaires
ATTACH;FMTTYPE=image/jpeg:https://eurorbem.sorbonne-universite.fr/wp-content/uploads/2024/10/seance-du-6-mai-1.jpg
END:VEVENT
BEGIN:VEVENT
DTSTART;TZID=Europe/Paris:20250507T170000
DTEND;TZID=Europe/Paris:20250507T190000
DTSTAMP:20260420T022200
CREATED:20250505T081853Z
LAST-MODIFIED:20250505T082413Z
UID:6146-1746637200-1746644400@eurorbem.sorbonne-universite.fr
SUMMARY:Séminaire Penser et Traduire les Littératures (PeTaLes)
DESCRIPTION:Gun-Britt Kohler (Université d’Oldenburg)\n« Raconter les discontinuités de l’histoire littéraire » (littératures d’Europe orientale) \nSvidna Mikhaylova (Académie des Sciences bulgare) \n« L’influence des traductions de Louis Viardot sur les traducteurs bulgares »   \nLien de connexion: https://zoom.us/j/98957731007
URL:https://eurorbem.sorbonne-universite.fr/event/seminaire-penser-et-traduire-les-litteratures-petales/
LOCATION:ZOOM
CATEGORIES:Séminaires
ATTACH;FMTTYPE=image/png:https://eurorbem.sorbonne-universite.fr/wp-content/uploads/2025/05/Unknown.png
END:VEVENT
BEGIN:VEVENT
DTSTART;TZID=Europe/Paris:20250512T150000
DTEND;TZID=Europe/Paris:20250512T170000
DTSTAMP:20260420T022200
CREATED:20250507T080834Z
LAST-MODIFIED:20250507T090844Z
UID:6157-1747062000-1747069200@eurorbem.sorbonne-universite.fr
SUMMARY:Séminaire « Les Juifs dans l’Empire russe et en Union soviétique »
DESCRIPTION:Prof. Dr. Maxim D. Shrayer (Максим Д. Шраер)\, spécialiste de la culture juive et de la Shoah (Boston College) et écrivain bilingue\, interviendra dans le cadre du séminaire « Les Juifs dans l’Empire russe et en Union soviétique » (Luba Jurgenson et Aleksandr Lavrov) \nL’exécution d’un poème juif (Selvinski\, Tolstoy\, Simonov et les mystères du procès de Krasnodar) \nUne communication\, en russe\, portant sur le sujet suivant :\nL’analyse de l’héritage historique et littéraire du premier procès des collaborateurs de nazis qui a eu lieu en juillet 1943 dans Krasnodar libérée. \nS’appuyant sur des archives inédites\, il éclairera la préparation de ce procès et sa couverture dans la presse et les actualités filmées. \nAu centre de son exposé\, l’histoire de la censure dont a fait l’objet le poème du témoin de la Shoah\, Ilya Selvinski\, \n« Un jugement à Krasnodar » ainsi que les débats entre écrivains soviétiques sur les exécutions publiques des collaborateurs. \nLien ZOOM\nhttps://cnrs.zoom.us/j/99368740319?pwd=9AXDbxN5Av4yaaXemqcxiRnjBbnI9l.1\nID de réunion: 993 6874 0319\nCode secret: Uz2BE6 \n 
URL:https://eurorbem.sorbonne-universite.fr/event/seminaire-les-juifs-dans-lempire-russe-et-en-union-sovietique/
LOCATION:Institut d’études slaves – Salle de conférences\, 9 rue Michelet\, Paris\, 75006
CATEGORIES:Séminaires
ATTACH;FMTTYPE=image/jpeg:https://eurorbem.sorbonne-universite.fr/wp-content/uploads/2025/05/Seminaire-Luba.jpg
END:VEVENT
BEGIN:VEVENT
DTSTART;TZID=Europe/Paris:20250515T170000
DTEND;TZID=Europe/Paris:20250515T190000
DTSTAMP:20260420T022200
CREATED:20250127T082119Z
LAST-MODIFIED:20250509T074110Z
UID:5431-1747328400-1747335600@eurorbem.sorbonne-universite.fr
SUMMARY:Histoire de la littérature russe\, XVIIIe-XXe siècles
DESCRIPTION:Leonid Livak (Université de Toronto) :\n \nL’écriture littéraire en temps de peste: Les Allées sombres d’Ivan Bounine comme « nouveau Décaméron »\nПисать во время чумы: « новый Декамерон » Ивана Бунина\n  \nhttps://zoom.us/j/95289344476?pwd=yvHQQl2EU1zo0xgdbVbUEH6ESuMoEu.1\nID de réunion: 952 8934 4476\nCode secret: Livres \nProgramme S2 – 24-25
URL:https://eurorbem.sorbonne-universite.fr/event/histoire-de-la-litterature-russe-xviiie-xxe-siecles-17/
LOCATION:Institut d’études slaves – Salle de conférences\, 9 rue Michelet\, Paris\, 75006
CATEGORIES:Séminaires
END:VEVENT
BEGIN:VEVENT
DTSTART;TZID=Europe/Paris:20250516T100000
DTEND;TZID=Europe/Paris:20250516T120000
DTSTAMP:20260420T022200
CREATED:20250226T090359Z
LAST-MODIFIED:20250516T073627Z
UID:5784-1747389600-1747396800@eurorbem.sorbonne-universite.fr
SUMMARY:TAMIZDAT : Printed matter in exile?
DESCRIPTION:Séminaire avec la participation des auteurs et des chercheurs d’exil \nCorrespondance d’exil. Sur les pratiques épistolaires des émigrés pendant et après la Seconde\nGuerre mondiale. \nLeonid Livak (Toronto University) / Olga Rosenblum (zfl-Berlin)\nБыть репрезентантом (настоящей) русской культуры: литераторы 3-й и 5-й волн эмиграции между\nвысокими идеалами и unfair play \nhttps://us06web.zoom.us/j/89153008505#success \nProgramme TAMIZDAT 2025 \nContact : Pavel Arsenev (lartpaulars@gmail.com)\, Marina Pantina (pantinamarina@gmail.com).
URL:https://eurorbem.sorbonne-universite.fr/event/tamizdat-printed-matter-in-exile-4/
LOCATION:Institut d’études slaves\, 9 rue Michelet\, Paris\, 75006\, France
CATEGORIES:Séminaires
ATTACH;FMTTYPE=image/jpeg:https://eurorbem.sorbonne-universite.fr/wp-content/uploads/2025/02/Programme-TAMIZDAT-2025-1-1.jpg
END:VEVENT
BEGIN:VEVENT
DTSTART;TZID=Europe/Paris:20250516T140000
DTEND;TZID=Europe/Paris:20250516T163000
DTSTAMP:20260420T022200
CREATED:20240823T092009Z
LAST-MODIFIED:20240823T092040Z
UID:4791-1747404000-1747413000@eurorbem.sorbonne-universite.fr
SUMMARY:Séminaire commun Eur'ORBEM  Histoire des savoirs\, disciplines\, circulations réseaux
DESCRIPTION:La reconstitution des réseaux scientifiques d’André Mazon (années 1920-1950)\n• Sylvie Archaimbault\n• Catherine Depretto\n• Daniel Baric\nDiscutant : Michel Espagne\nProgramme 2024-2025
URL:https://eurorbem.sorbonne-universite.fr/event/seminaire-commun-eurorbem-histoire-des-savoirs-disciplines-circulations-reseaux/
LOCATION:Institut d’études slaves – Salle de conférences\, 9 rue Michelet\, Paris\, 75006
CATEGORIES:Séminaire commun Eur'ORBEM,Séminaires
END:VEVENT
BEGIN:VEVENT
DTSTART;TZID=Europe/Paris:20250523T120000
DTEND;TZID=Europe/Paris:20250523T133000
DTSTAMP:20260420T022200
CREATED:20250129T144034Z
LAST-MODIFIED:20250129T144140Z
UID:5521-1748001600-1748007000@eurorbem.sorbonne-universite.fr
SUMMARY:UNDER EASTERN EYES East European Writers Reimagining the West from the Great War to Present Times
DESCRIPTION:Nicolas Aude (SU) \n“Finding a Counter-Identity » Julia Kristeva\, Tel Quel\, and the Chinese Tour of 1974\nLien zoom\nhttps://cnrs.zoom.us/j/99410228354?pwd=bRDyKpmosiR4xWb5tbBcQBS5oZ4UcB.1 \nUNES Seminar Program 2025_4EU+
URL:https://eurorbem.sorbonne-universite.fr/event/under-eastern-eyes-east-european-writers-reimagining-the-west-from-the-great-war-to-present-times-4/
LOCATION:ZOOM
CATEGORIES:Séminaires
ATTACH;FMTTYPE=image/jpeg:https://eurorbem.sorbonne-universite.fr/wp-content/uploads/2025/01/UNES_Seminar-Program_2025_4EU-copie.jpg
END:VEVENT
BEGIN:VEVENT
DTSTART;TZID=Europe/Paris:20250523T143000
DTEND;TZID=Europe/Paris:20250523T163000
DTSTAMP:20260420T022200
CREATED:20241104T134953Z
LAST-MODIFIED:20241104T135054Z
UID:5167-1748010600-1748017800@eurorbem.sorbonne-universite.fr
SUMMARY:La catastrophe en « je ». Violences de masse et pratiques diaristes au XXe siècle
DESCRIPTION:Atelier diariste 3 : Restitution des travaux au Mémorial de la Shoah (en présence de Karen Taïeb\, la responsable des archives) \nProgramme 2024-2025
URL:https://eurorbem.sorbonne-universite.fr/event/5167/
LOCATION:Campus Condorcet-Centre de colloques / Auditorium 150\, Place du Front populaire\, Aubervilliers\, 93322
CATEGORIES:Séminaires
ATTACH;FMTTYPE=image/jpeg:https://eurorbem.sorbonne-universite.fr/wp-content/uploads/2024/11/PROGRAMME-La-catastrophe-en-je.jpg
END:VEVENT
BEGIN:VEVENT
DTSTART;TZID=Europe/Paris:20250523T170000
DTEND;TZID=Europe/Paris:20250523T190000
DTSTAMP:20260420T022200
CREATED:20250324T140604Z
LAST-MODIFIED:20250521T134615Z
UID:6017-1748019600-1748026800@eurorbem.sorbonne-universite.fr
SUMMARY:TAMIZDAT : Printed matter in exile?
DESCRIPTION:L’émigration avant la lettre\, ou roman d’errance et d’exil (autour du livre Appendix)\n Alexandra Petrova (Rome) / Marina Simakova (EUI\, Turin) \nContact : Pavel Arsenev (lartpaulars@gmail.com)\, Marina Pantina (pantinamarina@gmail.com). \nProgramme TAMIZDAT 2025 \n 
URL:https://eurorbem.sorbonne-universite.fr/event/tamizdat-printed-matter-in-exile-6/
LOCATION:Institut d’études slaves – Salle de conférences\, 9 rue Michelet\, Paris\, 75006
CATEGORIES:Séminaires
ATTACH;FMTTYPE=image/jpeg:https://eurorbem.sorbonne-universite.fr/wp-content/uploads/2025/02/Programme-TAMIZDAT-2025-1-1.jpg
END:VEVENT
END:VCALENDAR