BEGIN:VCALENDAR
VERSION:2.0
PRODID:-//EURORBEM - ECPv6.15.20//NONSGML v1.0//EN
CALSCALE:GREGORIAN
METHOD:PUBLISH
X-ORIGINAL-URL:https://eurorbem.sorbonne-universite.fr
X-WR-CALDESC:Évènements pour EURORBEM
REFRESH-INTERVAL;VALUE=DURATION:PT1H
X-Robots-Tag:noindex
X-PUBLISHED-TTL:PT1H
BEGIN:VTIMEZONE
TZID:Europe/Paris
BEGIN:DAYLIGHT
TZOFFSETFROM:+0100
TZOFFSETTO:+0200
TZNAME:CEST
DTSTART:20240331T010000
END:DAYLIGHT
BEGIN:STANDARD
TZOFFSETFROM:+0200
TZOFFSETTO:+0100
TZNAME:CET
DTSTART:20241027T010000
END:STANDARD
BEGIN:DAYLIGHT
TZOFFSETFROM:+0100
TZOFFSETTO:+0200
TZNAME:CEST
DTSTART:20250330T010000
END:DAYLIGHT
BEGIN:STANDARD
TZOFFSETFROM:+0200
TZOFFSETTO:+0100
TZNAME:CET
DTSTART:20251026T010000
END:STANDARD
BEGIN:DAYLIGHT
TZOFFSETFROM:+0100
TZOFFSETTO:+0200
TZNAME:CEST
DTSTART:20260329T010000
END:DAYLIGHT
BEGIN:STANDARD
TZOFFSETFROM:+0200
TZOFFSETTO:+0100
TZNAME:CET
DTSTART:20261025T010000
END:STANDARD
END:VTIMEZONE
BEGIN:VEVENT
DTSTART;TZID=Europe/Paris:20251202T173000
DTEND;TZID=Europe/Paris:20251202T193000
DTSTAMP:20260421T063758
CREATED:20250929T082907Z
LAST-MODIFIED:20251126T160017Z
UID:6521-1764696600-1764703800@eurorbem.sorbonne-universite.fr
SUMMARY:Critical Heritage Studies in the Post-Socialist Space. Vulnerable Past Uncertain Future Institutionalization of Heritage in Times of Crisis
DESCRIPTION:Institutions et mouvements citoyens : l’héritage local de Moscou en mutation\nInstitutions and Grassroots Movements: The Changing Local Heritage of Moscow \n\nBoris STEPANOV (Université Paris Nanterre) :\n«Alternative Local Studies in Neoliberal Moscow: the Case of “Zabytye moryaki” Project» \nKraevedenie (local studies) reveals transformations in the post-Soviet space in the\ninterpretation of heritage and the range of agents and means of its creation .In Moscow\, we\nfound a vivid example of these transformations: the ‘new local studies’ that emerged in recent\ndecades have become deeply embedded in the metropolitan neoliberal culture. The casestudy\nof ‘Zabytye Moryaki’ (‘Forgotten Sailors’) artel — an independent group working in one\nof the semi-peripheral districts of the Russian capital — will serve as material for analysis of the\nsituation. We would like not only to discuss the possibilities of location-related kraevedenie\nwithin the Russian metropolis\, but also to analyse alternative strategies for work that address\nthe difficult past\, critically assessed urban policy and implement the ‘right to the city’.\nAlexei IZOSIMOV (University of Cambridge) :\n«Out of the Capital: Student-Led Restoration Initiatives in Late Soviet Russia» \nThis paper traces the history of voluntary and semi-voluntary participation in heritage\nrestoration and preservation in Moscow and beyond. Beginning with a handful of initiatives\nthat emerged in the second half of the 1960s\, these practices expanded significantly in the\n1970s–80s and spread across Soviet Russia.\nMoving beyond the conventional focus on professionals\, scholars\, and the intelligentsia\,\nI analyse non-professional participation and argue that Thaw-era youth — especially students\nin technical fields — were central to advancing the preservation agenda. Their activities\ndeveloped in close collaboration with older generations who carried pre-revolutionary cultural\nexperience and were eager to pass them on\, seeing the transfer of this experience as essential\nto safeguarding cultural heritage for the future.\nBy following the trajectory of these initiatives — from their Muscovite origins to their\nnationwide diffusion — the paper demonstrates how a movement born in the capital reshaped\nheritage activism across Soviet Russia\, laid the foundations for contemporary heritage NGOs\,\nand helped prepare the ground for modern volunteerism practices in contemporary Russia.\n\nZoom  Inscription : aleksandra.kolesnik@uni-bielefeld.de \nProgramme_CHS_25-26
URL:https://eurorbem.sorbonne-universite.fr/event/critical-heritage-studies-in-the-post-socialist-space-vulnerable-past-uncertain-future-institutionalization-of-heritage-in-times-of-crisis-2/
LOCATION:Institut d’études slaves – Salle de conférences\, 9 rue Michelet\, Paris\, 75006
CATEGORIES:Séminaires
ATTACH;FMTTYPE=image/jpeg:https://eurorbem.sorbonne-universite.fr/wp-content/uploads/2025/09/seance-2-decembre1-1.jpg
END:VEVENT
BEGIN:VEVENT
DTSTART;TZID=Europe/Paris:20251205T160000
DTEND;TZID=Europe/Paris:20251205T180000
DTSTAMP:20260421T063758
CREATED:20250722T065358Z
LAST-MODIFIED:20251203T114803Z
UID:6343-1764950400-1764957600@eurorbem.sorbonne-universite.fr
SUMMARY:Séminaire commun Eur’ORBEM
DESCRIPTION:La revue des livres d’Eur’ORBEM \nProgramme de la revue des livres  \nProgramme 2025-2026
URL:https://eurorbem.sorbonne-universite.fr/event/seminaire-commun-eurorbem-24/
LOCATION:Institut d’études slaves – Salle de conférences\, 9 rue Michelet\, Paris\, 75006
CATEGORIES:Séminaire commun Eur'ORBEM,Séminaires
END:VEVENT
BEGIN:VEVENT
DTSTART;TZID=Europe/Paris:20251218T160000
DTEND;TZID=Europe/Paris:20251218T180000
DTSTAMP:20260421T063758
CREATED:20251211T141209Z
LAST-MODIFIED:20251211T141859Z
UID:6852-1766073600-1766080800@eurorbem.sorbonne-universite.fr
SUMMARY:« Les fonds privés : cas d’école ou pas de côté ? » par Juliette Milbach
DESCRIPTION:Dans le cadre du Séminaire « Décrire la création » / 2025-2026\nITEM – Institut des textes et manuscrits modernes \n\nDocteure en histoire de l’art (Université Paris 1) et chargée de cours à l’Université de Picardie Jules Verne (UFR Art)\, Juliette Milbach est chercheuse associée au CERCEC (CNRS/EHSS) et à l’ITEM. Elle est lauréate de la Bourse Collection École des Modernités à l’Institut Giacometti\, 2024 pour la publication de l’ouvrage Paris\, Berlin\, Moscou. Louis Lozowick dans l’entre-deux-guerres (à paraître au printemps 2026). Elle est chercheuse associée BNF au département des Arts du spectacle pour l’année 2025-2026 sur le Fonds Nina Brodsky (référentes scientifiques : Laurence Decobert et Hélène Keller). Ce fonds a été donné à la BNF par Nina Brodsky en 1979 et conserve des documents variés non encore signalés (correspondances\, textes manuscrits et dactylographiés\, documentation)\, ainsi que des centaines de maquettes (décors\, y compris en volume\, et costumes)\, des croquis\, des photographies de décors\, clichés de projection pour décors projetés.
URL:https://eurorbem.sorbonne-universite.fr/event/6852/
LOCATION:ENS\, 45 rue d'Ulm\, Paris\, 75005
CATEGORIES:Séminaires
END:VEVENT
END:VCALENDAR