BEGIN:VCALENDAR
VERSION:2.0
PRODID:-//EURORBEM - ECPv6.15.20//NONSGML v1.0//EN
CALSCALE:GREGORIAN
METHOD:PUBLISH
X-ORIGINAL-URL:https://eurorbem.sorbonne-universite.fr
X-WR-CALDESC:Évènements pour EURORBEM
REFRESH-INTERVAL;VALUE=DURATION:PT1H
X-Robots-Tag:noindex
X-PUBLISHED-TTL:PT1H
BEGIN:VTIMEZONE
TZID:Europe/Paris
BEGIN:DAYLIGHT
TZOFFSETFROM:+0100
TZOFFSETTO:+0200
TZNAME:CEST
DTSTART:20250330T010000
END:DAYLIGHT
BEGIN:STANDARD
TZOFFSETFROM:+0200
TZOFFSETTO:+0100
TZNAME:CET
DTSTART:20251026T010000
END:STANDARD
BEGIN:DAYLIGHT
TZOFFSETFROM:+0100
TZOFFSETTO:+0200
TZNAME:CEST
DTSTART:20260329T010000
END:DAYLIGHT
BEGIN:STANDARD
TZOFFSETFROM:+0200
TZOFFSETTO:+0100
TZNAME:CET
DTSTART:20261025T010000
END:STANDARD
BEGIN:DAYLIGHT
TZOFFSETFROM:+0100
TZOFFSETTO:+0200
TZNAME:CEST
DTSTART:20270328T010000
END:DAYLIGHT
BEGIN:STANDARD
TZOFFSETFROM:+0200
TZOFFSETTO:+0100
TZNAME:CET
DTSTART:20271031T010000
END:STANDARD
END:VTIMEZONE
BEGIN:VEVENT
DTSTART;TZID=Europe/Paris:20260122T080000
DTEND;TZID=Europe/Paris:20260122T170000
DTSTAMP:20260419T201942
CREATED:20260122T105237Z
LAST-MODIFIED:20260122T105328Z
UID:6970-1769068800-1769101200@eurorbem.sorbonne-universite.fr
SUMMARY:Histoire de la littérature russe\, XVIIIe-XXe siècles
DESCRIPTION:Mark Lipovetsky (Columbia University) : Как возникло будущее\, которое стало\nнашим настоящим : Трансформации русского постмодернизма в начале 2000-х годов. \nhttps://zoom.us/j/95289344476?pwd=yvHQQl2EU1zo0xgdbVbUEH6ESuMoEu.1\nID de réunion: 952 8934 4476\nCode secret: Livres
URL:https://eurorbem.sorbonne-universite.fr/event/6970/
LOCATION:ZOOM
CATEGORIES:Séminaires
END:VEVENT
END:VCALENDAR