BEGIN:VCALENDAR
VERSION:2.0
PRODID:-//EURORBEM - ECPv6.15.20//NONSGML v1.0//EN
CALSCALE:GREGORIAN
METHOD:PUBLISH
X-WR-CALNAME:EURORBEM
X-ORIGINAL-URL:https://eurorbem.sorbonne-universite.fr
X-WR-CALDESC:Évènements pour EURORBEM
REFRESH-INTERVAL;VALUE=DURATION:PT1H
X-Robots-Tag:noindex
X-PUBLISHED-TTL:PT1H
BEGIN:VTIMEZONE
TZID:Europe/Paris
BEGIN:DAYLIGHT
TZOFFSETFROM:+0100
TZOFFSETTO:+0200
TZNAME:CEST
DTSTART:20250330T010000
END:DAYLIGHT
BEGIN:STANDARD
TZOFFSETFROM:+0200
TZOFFSETTO:+0100
TZNAME:CET
DTSTART:20251026T010000
END:STANDARD
BEGIN:DAYLIGHT
TZOFFSETFROM:+0100
TZOFFSETTO:+0200
TZNAME:CEST
DTSTART:20260329T010000
END:DAYLIGHT
BEGIN:STANDARD
TZOFFSETFROM:+0200
TZOFFSETTO:+0100
TZNAME:CET
DTSTART:20261025T010000
END:STANDARD
BEGIN:DAYLIGHT
TZOFFSETFROM:+0100
TZOFFSETTO:+0200
TZNAME:CEST
DTSTART:20270328T010000
END:DAYLIGHT
BEGIN:STANDARD
TZOFFSETFROM:+0200
TZOFFSETTO:+0100
TZNAME:CET
DTSTART:20271031T010000
END:STANDARD
END:VTIMEZONE
BEGIN:VEVENT
DTSTART;TZID=Europe/Paris:20260227T140000
DTEND;TZID=Europe/Paris:20260227T160000
DTSTAMP:20260420T180053
CREATED:20250722T070410Z
LAST-MODIFIED:20250722T070502Z
UID:6350-1772200800-1772208000@eurorbem.sorbonne-universite.fr
SUMMARY:Séminaire commun Eur’ORBEM
DESCRIPTION:Fragilité(s) – représentations culturelles du vivant dominé : corps\, minorités et nature\, entre agression\, résilience et agentivité (XVIIIe–XXIe siècles) \n\nKinga Callebat : Au-delà de l’Anthropocène : la pensée post-humaniste dans l’œuvre d’Olga Tokarczuk.\nArthur Clech : Entre trahison et affirmation poétique : l’explosion des identités dans la prose queer de Kharitonov et ses résonances contemporaines.\n\nProgramme 2025-2026
URL:https://eurorbem.sorbonne-universite.fr/event/seminaire-commun-eurorbem-25/
LOCATION:Institut d’études slaves – Salle de conférences\, 9 rue Michelet\, Paris\, 75006
CATEGORIES:Séminaire commun Eur'ORBEM,Séminaires
END:VEVENT
END:VCALENDAR