BEGIN:VCALENDAR
VERSION:2.0
PRODID:-//EURORBEM - ECPv6.15.20//NONSGML v1.0//EN
CALSCALE:GREGORIAN
METHOD:PUBLISH
X-ORIGINAL-URL:https://eurorbem.sorbonne-universite.fr
X-WR-CALDESC:Évènements pour EURORBEM
REFRESH-INTERVAL;VALUE=DURATION:PT1H
X-Robots-Tag:noindex
X-PUBLISHED-TTL:PT1H
BEGIN:VTIMEZONE
TZID:Europe/Paris
BEGIN:DAYLIGHT
TZOFFSETFROM:+0100
TZOFFSETTO:+0200
TZNAME:CEST
DTSTART:20230326T010000
END:DAYLIGHT
BEGIN:STANDARD
TZOFFSETFROM:+0200
TZOFFSETTO:+0100
TZNAME:CET
DTSTART:20231029T010000
END:STANDARD
BEGIN:DAYLIGHT
TZOFFSETFROM:+0100
TZOFFSETTO:+0200
TZNAME:CEST
DTSTART:20240331T010000
END:DAYLIGHT
BEGIN:STANDARD
TZOFFSETFROM:+0200
TZOFFSETTO:+0100
TZNAME:CET
DTSTART:20241027T010000
END:STANDARD
BEGIN:DAYLIGHT
TZOFFSETFROM:+0100
TZOFFSETTO:+0200
TZNAME:CEST
DTSTART:20250330T010000
END:DAYLIGHT
BEGIN:STANDARD
TZOFFSETFROM:+0200
TZOFFSETTO:+0100
TZNAME:CET
DTSTART:20251026T010000
END:STANDARD
END:VTIMEZONE
BEGIN:VEVENT
DTSTART;TZID=Europe/Paris:20240110T190000
DTEND;TZID=Europe/Paris:20240110T200000
DTSTAMP:20260426T020448
CREATED:20231115T153854Z
LAST-MODIFIED:20240109T151920Z
UID:3668-1704913200-1704916800@eurorbem.sorbonne-universite.fr
SUMMARY:Présentation du livre Carnets de voyage en Europe de l'Est (1969-1980) de Roselyne Chenu
DESCRIPTION:En présence de l’auteure.\nCoffret de deux tomes : \nTome 1\, 1969-1972\nTome 2\, 1974-1980\n632 pages\, ISBN : 970-10-96982-17-2\n22€\n \nEur’Orbem Éditions coll. Histoires/s \nCommander \n 
URL:https://eurorbem.sorbonne-universite.fr/event/presentation-du-livre-carnets-de-voyage-en-europe-de-lest-1969-1980/
LOCATION:Librairie Tschann\, 125 bd du Montparnasse\, Paris\, 75006\, France
CATEGORIES:Conférences
ATTACH;FMTTYPE=image/jpeg:https://eurorbem.sorbonne-universite.fr/wp-content/uploads/2023/11/2Presentation_Carnets-de-voyage_10.01.jpg
END:VEVENT
BEGIN:VEVENT
DTSTART;TZID=Europe/Paris:20240117T103000
DTEND;TZID=Europe/Paris:20240117T123000
DTSTAMP:20260426T020448
CREATED:20231107T141633Z
LAST-MODIFIED:20231107T141711Z
UID:3626-1705487400-1705494600@eurorbem.sorbonne-universite.fr
SUMMARY:La catastrophe en « je ». Violences de masse et pratiques diaristes au XXe siècle
DESCRIPTION:Les écrits personnels du Rwanda (Rémi Korman) \nhttps://enseignements.ehess.fr/2023-2024/ue/391
URL:https://eurorbem.sorbonne-universite.fr/event/la-catastrophe-en-je-violences-de-masse-et-pratiques-diaristes-au-xxe-siecle-6/
LOCATION:Batiment EHESS – Condorcet\, salle 25-A\, 8\, cours des Humanités\, Aubervilliers\, 93300\, France
CATEGORIES:Séminaires
END:VEVENT
BEGIN:VEVENT
DTSTART;TZID=Europe/Paris:20240126T120000
DTEND;TZID=Europe/Paris:20240126T153000
DTSTAMP:20260426T020448
CREATED:20240122T110441Z
LAST-MODIFIED:20240122T110622Z
UID:4058-1706270400-1706283000@eurorbem.sorbonne-universite.fr
SUMMARY:« L’influence russe en Europe centrale et du sud-est :  passé\, présences »  « Russia’s Influence in Central and Southeast Europe:  Politics Past\, Politics Present »
DESCRIPTION:Workshop en ligne \ncoordonné par Nadège Ragaru\, Sciences Po (CERI-CNRS) pour le GDR CNRS « Connaissance de l’Europe médiane » \n Adresse Zoom : https://sciencespo.zoom.us/j/3846330346?omn=99521166468\nID de réunion : 3846330346\nMeeting host: nadege.ragaru@sciencespo.fr \nPrésidente : Clara Royer\, professeure à Sorbonne Université\, co-directrice du GDR CNRS « Connaissance de l’Europe médiane » \nJuraj Marušiak\, Associate Professor\, Institute of Political Science\, Slovak Academy of Sciences\nRussia and Slovakia – between foreign and domestic policy  \nFlorent Parmentier\, Secrétaire général du CEVIPOF et chercheur associé à HEC\nRussie – Moldavie : la tentation du découplage \nNadège Ragaru\, directrice de recherche à Sciences Po (CERI)\nLa Bulgarie et la Russie : contre\, tout contre \nJean-Arnault Dérens\, Historien et journaliste\, co-rédacteur en chef du Courrier des Balkans\nL’onde de choc de la guerre en Ukraine dans les Balkans \nDiscutants : \nValentin Behr (chargé de recherche au CNRS\, CESSP\, Paris 1 et EHESS) et Jana Vargovčíková (maîtresse de conférence à l’Inalco\, CREE)
URL:https://eurorbem.sorbonne-universite.fr/event/linfluence-russe-en-europe-centrale-et-du-sud-est-passe-presences-russias-influence-in-central-and-southeast-europe-politics-past-politics-present/
CATEGORIES:Séminaires
END:VEVENT
BEGIN:VEVENT
DTSTART;TZID=Europe/Paris:20240126T140000
DTEND;TZID=Europe/Paris:20240126T170000
DTSTAMP:20260426T020448
CREATED:20240111T105827Z
LAST-MODIFIED:20240111T110223Z
UID:4038-1706277600-1706288400@eurorbem.sorbonne-universite.fr
SUMMARY:Les lectures européennes de Zinaïda Guippius et Dmitri Mérejkovski
DESCRIPTION:Intervenants\n\n\nAnna Lushenkova Foscolo (Marge\, Lyon 3)\nOlga Blinova (CREE\, Inalco / GEO\, Université de Strasbourg)\nDaria Sinichkina (EUR’ORBEM\, Sorbonne Université)\n\n\n\n\n\nAccès à la visioconférence via le logiciel Zoom : Informations à venir
URL:https://eurorbem.sorbonne-universite.fr/event/les-lectures-europeennes-de-zinaida-guippius-et-dmitri-merejkovski/
LOCATION:Bibliothèque Diderot de Lyon – Salle de réunion\, 5 parvis René Descartes\, Lyon\, France
CATEGORIES:Séminaires
ATTACH;FMTTYPE=image/png:https://eurorbem.sorbonne-universite.fr/wp-content/uploads/2024/01/Capture-decran-2024-01-11-a-11.57.35.png
END:VEVENT
BEGIN:VEVENT
DTSTART;TZID=Europe/Paris:20240126T180000
DTEND;TZID=Europe/Paris:20240126T200000
DTSTAMP:20260426T020448
CREATED:20240122T095913Z
LAST-MODIFIED:20240124T151502Z
UID:4049-1706292000-1706299200@eurorbem.sorbonne-universite.fr
SUMMARY:L'influence russe en Afrique subsaharienne : acteurs\, pratiques\, récits
DESCRIPTION:Conférence de Maxime Audinet\, chercheur à l’Institut de recherche stratégique de l’École militaire (IRSEM)\, docteur en études slaves et en science politique \n\nEntrée libre (dans la limite des places disponibles)\nUne pièce d’identité sera obligatoire pour rentrer dans l’établissement\n\nCoordination :\nCatherine Géry (CREE\, Inalco)\nCamille Robert-Boeuf (LADYSS\, Université Paris Nanterre)\nSylvette Soulié (Présidente de l’AFR) \nContacts\nafr.presidence@gmail.com\nc.robertboeuf@outlook.com
URL:https://eurorbem.sorbonne-universite.fr/event/linfluence-russe-en-afrique-subsaharienne-acteurs-pratiques-recits/
LOCATION:INALCO – Salle 4.23\, 65\, rue des Grands Moulins\, Paris\, 75013\, France
CATEGORIES:Conférences
END:VEVENT
BEGIN:VEVENT
DTSTART;TZID=Europe/Paris:20240131T080000
DTEND;TZID=Europe/Paris:20240131T170000
DTSTAMP:20260426T020448
CREATED:20240131T101918Z
LAST-MODIFIED:20240131T101918Z
UID:4095-1706688000-1706720400@eurorbem.sorbonne-universite.fr
SUMMARY:Histoire de la littérature russe\, XVIIIe-XXe siècles
DESCRIPTION:Ilya Vinitsky (Université de Princeton)\n« Les sources françaises de la poésie militaire de Pouchkine » \nProgramme 2024 \nRejoindre Zoom Réunion \nhttps://zoom.us/j/97799305805?pwd=SXVlV0lPcUpzZ1ZVdmlFenA2SGRyQT09 \nID de réunion: 977 9930 5805 \nCode secret: Pasternak \n 
URL:https://eurorbem.sorbonne-universite.fr/event/histoire-de-la-litterature-russe-xviiie-xxe-siecles-6/
END:VEVENT
BEGIN:VEVENT
DTSTART;TZID=Europe/Paris:20240131T103000
DTEND;TZID=Europe/Paris:20240131T123000
DTSTAMP:20260426T020448
CREATED:20231107T141752Z
LAST-MODIFIED:20231107T141830Z
UID:3628-1706697000-1706704200@eurorbem.sorbonne-universite.fr
SUMMARY:La catastrophe en « je ». Violences de masse et pratiques diaristes au XXe siècle
DESCRIPTION:Les journaux de Hiroshima (Inoue Masatoshi) \nhttps://enseignements.ehess.fr/2023-2024/ue/391
URL:https://eurorbem.sorbonne-universite.fr/event/la-catastrophe-en-je-violences-de-masse-et-pratiques-diaristes-au-xxe-siecle-7/
LOCATION:Batiment EHESS – Condorcet\, salle 25-A\, 8\, cours des Humanités\, Aubervilliers\, 93300\, France
CATEGORIES:Séminaires
END:VEVENT
END:VCALENDAR