BEGIN:VCALENDAR
VERSION:2.0
PRODID:-//EURORBEM - ECPv6.15.20//NONSGML v1.0//EN
CALSCALE:GREGORIAN
METHOD:PUBLISH
X-WR-CALNAME:EURORBEM
X-ORIGINAL-URL:https://eurorbem.sorbonne-universite.fr
X-WR-CALDESC:Évènements pour EURORBEM
REFRESH-INTERVAL;VALUE=DURATION:PT1H
X-Robots-Tag:noindex
X-PUBLISHED-TTL:PT1H
BEGIN:VTIMEZONE
TZID:Europe/Paris
BEGIN:DAYLIGHT
TZOFFSETFROM:+0100
TZOFFSETTO:+0200
TZNAME:CEST
DTSTART:20230326T010000
END:DAYLIGHT
BEGIN:STANDARD
TZOFFSETFROM:+0200
TZOFFSETTO:+0100
TZNAME:CET
DTSTART:20231029T010000
END:STANDARD
BEGIN:DAYLIGHT
TZOFFSETFROM:+0100
TZOFFSETTO:+0200
TZNAME:CEST
DTSTART:20240331T010000
END:DAYLIGHT
BEGIN:STANDARD
TZOFFSETFROM:+0200
TZOFFSETTO:+0100
TZNAME:CET
DTSTART:20241027T010000
END:STANDARD
BEGIN:DAYLIGHT
TZOFFSETFROM:+0100
TZOFFSETTO:+0200
TZNAME:CEST
DTSTART:20250330T010000
END:DAYLIGHT
BEGIN:STANDARD
TZOFFSETFROM:+0200
TZOFFSETTO:+0100
TZNAME:CET
DTSTART:20251026T010000
END:STANDARD
END:VTIMEZONE
BEGIN:VEVENT
DTSTART;TZID=Europe/Paris:20240502T170000
DTEND;TZID=Europe/Paris:20240502T190000
DTSTAMP:20260424T174628
CREATED:20240131T103546Z
LAST-MODIFIED:20240131T103623Z
UID:4107-1714669200-1714676400@eurorbem.sorbonne-universite.fr
SUMMARY:Histoire de la littérature russe\, XVIIIe-XXe siècles
DESCRIPTION:Leonid Heller (Lausanne) : « О толпе на похоронах Сталина » \nProgramme 2024 \nRejoindre Zoom Réunion \nhttps://zoom.us/j/97799305805?pwd=SXVlV0lPcUpzZ1ZVdmlFenA2SGRyQT09\nID de réunion: 977 9930 5805\nCode secret: Pasternak
URL:https://eurorbem.sorbonne-universite.fr/event/histoire-de-la-litterature-russe-xviiie-xxe-siecles-10/
LOCATION:Centre d’études slaves – Salle conférences\, 9 rue Michelet\, Paris\, 75006\, France
CATEGORIES:Séminaires
END:VEVENT
BEGIN:VEVENT
DTSTART;TZID=Europe/Paris:20240503T140000
DTEND;TZID=Europe/Paris:20240503T213000
DTSTAMP:20260424T174628
CREATED:20240422T092120Z
LAST-MODIFIED:20240422T092518Z
UID:4427-1714744800-1714771800@eurorbem.sorbonne-universite.fr
SUMMARY:Les partisans yougoslaves : figures historiques et héros de cinéma (2e édition)
DESCRIPTION:Dans le cadre du cycle de projections débats : « (Contre-) mémoires cinématographiques des conflits en Europe médiane ».  \n\n\nSéance de trois films présentés par Naïma Berkane (Eur’ORBEM) \nEn 2023\, une première séance de trois films centrés sur des figures de Partisans abordait le rapport qu’entretenait le cinéma yougoslave à l’histoire\, entre mystification\, déviation et critique. Elle nous a fait traverser des territoires (l’Herzégovine\, la Serbie centrale et une île croate métaphorique)\, des périodes (la Guerre de libération nationale\, ses lendemains immédiats\, et les temps de paix et d’« épuisement de la morale révolutionnaire » – comme l’a analysé Nebojša Jovanović\,)\, et des styles cinématographiques suscités par la thématique des Partisans (mainstream\, naturalisme et formalisme auteuristes).  \nLa séance du 3 mai 2024 sera consacrée à la superstar Bata Živojinović avec trois films produits entre 1962 et 1972 qui révèlent une partie de la diversité du cinéma de Partisans et ses évolutions stylistiques et idéologiques. Le film choral Kozara est un exemple édifiant du « cinéma classique mûr » mélodramatique consacré à l’une des batailles les plus meurtrières de la Seconde Guerre mondiale sur les territoires yougoslaves. Avec le film d’espionnage culte\, Walter défend Sarajevo\, Bata est un héros parmi les héros dans la résistance organisée pendant l’occupation de la ville. C’est seul que nous le retrouvons dans le film d’auteur intimiste\, Trois\, qui nous fait traverser la guerre depuis son intériorité. \nPlusieurs invités viendront discuter de la carrière de l’acteur\, ses rôles de Partisans et la fonction représentative qu’il a endossée dans la Yougoslavie socialiste à travers ses changements politiques et cinématographiques. Il sera également question de l’œuvre du réalisateur Aleksandar Petrović et de la place qu’y a tenu la thématique révolutionnaire tant au niveau politique qu’esthétique : \n\nIrena Bilić\, assistance réalisatrice d’Aleksandar Petrović\, fondatrice et directrice artistique du festival L’Europe autour de l’Europe\nMina Radović\, doctorant et curateur\, programmateur de « Black Wave to White Ray : Yugoslav Film of the 1960s » au MoMA (New York\, 7-21 septembre 2023) \nVlastimir Sudar\, maître de conférences à Kingston University et auteur de The Life and Work of Aleksandar Petrović\, A Portrait of the Artist as a Political Dissident (Intellect Books\, 2013)\n\nProgramme\n\n14h00 –   Kozara\, de Veljko Bulajić\, 1962\, Bosna film\, VO sous-titrée en anglais\, 2h04\n16h30 – Walter défend Sarajevo (Valter brani Sarajevo)\, de Hajrudin Krvavac\, 1972\, Bosna film\, VO sous-titrée en anglais\, 2h13 – Suivi d’une discussion avec Mina Radović \n19h30 – Trois (Tri)\, de Aleksandar Petrović\, 1965\, Avala film\, VO sous-titrée en français\, 1h20 – Suivi d’une discussion avec Irena Bilić et Vlastimir Sudar\n\nEn partenariat avec Eur’ORBEM (Sorbonne Université)\, Filmski Centar Sarajevo et Delta film
URL:https://eurorbem.sorbonne-universite.fr/event/les-partisans-yougoslaves-figures-historiques-et-heros-de-cinema-2e-edition/
LOCATION:INALCO – Auditorium\, 65 rue des Grands Moulins\, Paris\, 75013\, France
CATEGORIES:Conférences
ATTACH;FMTTYPE=image/jpeg:https://eurorbem.sorbonne-universite.fr/wp-content/uploads/2024/04/Les-partisans-yougoslaves-2.jpg
END:VEVENT
BEGIN:VEVENT
DTSTART;TZID=Europe/Paris:20240513T180000
DTEND;TZID=Europe/Paris:20240513T193000
DTSTAMP:20260424T174628
CREATED:20240308T130443Z
LAST-MODIFIED:20240510T143136Z
UID:4312-1715623200-1715628600@eurorbem.sorbonne-universite.fr
SUMMARY:La Russie contemporaine : mode d’emploi
DESCRIPTION:Anna Karetnikova\, ancienne membre de Memorial et ancienne fonctionnaire du Service fédéral d’exécution des peines\nLa vie d’ombre de l’appareil répressif : la vie quotidienne des centres de détention provisoire\nInscription : https://www.billetweb.fr/conference-karetnikova
URL:https://eurorbem.sorbonne-universite.fr/event/la-russie-contemporaine-mode-demploi-3/
LOCATION:Campus Malesherbes\, 108 Bd Malesherbes\, Paris\, 75017\, France
CATEGORIES:Conférences
ATTACH;FMTTYPE=image/jpeg:https://eurorbem.sorbonne-universite.fr/wp-content/uploads/2024/03/AfficheRussieContemporaine-080324.jpg
END:VEVENT
BEGIN:VEVENT
DTSTART;TZID=Europe/Paris:20240514T150000
DTEND;TZID=Europe/Paris:20240514T160000
DTSTAMP:20260424T174628
CREATED:20240111T104902Z
LAST-MODIFIED:20240515T130814Z
UID:4036-1715698800-1715702400@eurorbem.sorbonne-universite.fr
SUMMARY:Cycle de conférences « Passerelles »
DESCRIPTION:Table ronde avec \nWladimir BERELOWITCH\, Patrick MICHEL\, Georges MINK et Jacques RUPNIK\nLa revue L’autre Europe\, 1984-1998 : des « zones grises » aux révolutions\nLa séance sera présentée par Anne Madelain (Inalco). \nhttps://cnrs.zoom.us/j/92700370043?pwd=ZGJ6YzZWZ3RzWm1mait3S2ZDbUhmQT09\nID de réunion: 927 0037 0043\nCode secret: p6yzei \n  \n 
URL:https://eurorbem.sorbonne-universite.fr/event/cycle-de-conferences-passerelles-4/
LOCATION:Institut d’études slaves – Salle de conférences\, 9 rue Michelet\, Paris\, 75006
CATEGORIES:Conférences
ATTACH;FMTTYPE=image/jpeg:https://eurorbem.sorbonne-universite.fr/wp-content/uploads/2024/01/Passerelles_03_DEF.jpg
END:VEVENT
BEGIN:VEVENT
DTSTART;TZID=Europe/Paris:20240516T173000
DTEND;TZID=Europe/Paris:20240516T193000
DTSTAMP:20260424T174628
CREATED:20231123T125134Z
LAST-MODIFIED:20240503T153627Z
UID:3785-1715880600-1715887800@eurorbem.sorbonne-universite.fr
SUMMARY:Séminaire commun Eur'Orbem
DESCRIPTION:Andrey Vorobyev (Eur’Orbem)\nLa porcelaine en tant que phénomène de la politique culturelle de l’Empire russe au XVIIIe siècle\nLe sujet de l’exposé est le caractère symbolique de la porcelaine russe au XVIIIe siècle. À cette époque les autorités utilisaient souvent cet art décoratif pour  envoyer des signaux politiques importants.Le langage de la porcelaine devient un moyen universel permettant d’expliciter de nombreux problèmes sociaux et nationaux. Au fil du temps\, la porcelaine s’est transformée en un texte sémantique complexe dont la “lecture” n’est possible que dans le cadre d’une approche interdisciplinaire. Cette présentation vise à expliquer le rôle et la place de la porcelaine dans un certain nombre de pratiques sociales du pouvoir à l’époque “galante”\, ainsi que la sémantique des tables de cérémonie. \nTatiana Kostina (programme PAUSE\, Eur’Orbem)\nL’enseignement institutionnel des langues étrangères en Russie au XVIIIe siècle\nLe français en Russie au cours du XVIIIe siècle a parcouru une évolution nette\, passant d’une connaissance élitiste\, accessible à quelques-uns seulement\, à la langue de la culture noble en général remplissant un rôle d’indicateur de la possession d’une bonne éducation. Dans cette situation\, les établissements d’enseignement étatiques (gymnasiums\, universités) pouvaient remplir des fonctions d’ascenseur social\, mais seuls quelques individus pouvaient en bénéficier. Dans notre présentation\, nous découvrirons pourquoi\, et discuterons d’autres questions que l’examen de l’histoire des gymnases en Russie permet de poser. Dans quelle mesure l’enseignement du latin\, de l’allemand et du français y était-il pratiqué\, et pourquoi ? Quelles langues les représentants des différents ordres sociaux choisissaient-ils d’apprendre ? Comment le marché des professeurs de langues étrangères influençait-il la profondeur et l’ampleur de l’enseignement ? \nAndrey Kostin (programme PAUSE)\nAlbums de coloriage soviétiques : pratiques et discours\nRécemment le monde a connu un boom des livres de coloriage\, qui s’est estompé à la fin des années 2010. Aujourd’hui\, avec cette petite mais historique distance\, on peut se demander – comprenons-nous quelque chose à ce médium familier\, qui semble être connu de chaque habitant du monde européanisé ? Les booms des livres de coloriage à d’autres époques et en d’autres lieux se révèlent instructifs pour répondre à cette question. L’un d’eux\, caractérisé par une diversité expérimentale de formes\, s’est produit à Moscou et à Leningrad dans les années 1950-1960. Étudier ces publications\, leurs créateurs et leurs utilisateurs permet de mieux comprendre les pratiques éditoriales de la fin de l’URSS\, etle marché mondial global des « non-livres »\, ainsi que d’aborder la place de l’auteur et de la lecture. \nLien Zoom \nhttps://cnrs.zoom.us/j/91987177064?pwd=M09WSlFqd2wwZ3pTbnIweWROQWhDUT09\nID de réunion: 919 8717 7064\nCode secret: EvR4qB \n  \n\nProgramme 2023-2024\n\n 
URL:https://eurorbem.sorbonne-universite.fr/event/seminaire-commun-eurorbem-13/
LOCATION:Institut d’études slaves – Salle de conférences\, 9 rue Michelet\, Paris\, 75006
CATEGORIES:Séminaires
END:VEVENT
BEGIN:VEVENT
DTSTART;TZID=Europe/Paris:20240517T090000
DTEND;TZID=Europe/Paris:20240517T170000
DTSTAMP:20260424T174628
CREATED:20240513T074355Z
LAST-MODIFIED:20240513T074825Z
UID:4463-1715936400-1715965200@eurorbem.sorbonne-universite.fr
SUMMARY:Genre et Violences en Europe et en Eurasie contemporaines
DESCRIPTION:Dans de nombreux pays\, en particulier en Europe orientale et dans les anciens pays post-communistes\, on assiste actuellement à des réactions hostiles face aux questions de genre\, à un durcissement des lois contre les droits des femmes et des minorités sexuelles\, et à une augmentation de la violence patriarcale. \nL’intensification des conflits et les nouvelles guerres qui ont éclaté dans la zone européenne et euroasiatique ont exacerbé la vulnérabilité des femmes face aux agresseurs militaires comme au sein de la famille. La combinaison du facteur militaire et des traumatismes psychologiques subis par les participants à la guerre complique la situation dans le domaine des violences domestiques et familiales. \nCes dernières années\, le problème du genre et de la violence n’a cessé d’être étudié et de nombreux travaux lui ont été consacrés dans différents pays du monde. Cependant\, l’émergence de nouveaux défis et de nouvelles menaces nécessite aujourd’hui encore – et plus que jamais – de faire de ce problème l’objet de recherches et de discussions dans le milieu scientifique et spécialisé ; il s’agit de repenser la question de la violence fondée sur le genre dans le monde contemporain. \nProgramme \n \nContacts sylvia.chanssaing@inalco.fr et catherine.gery@inalco.fr \n 
URL:https://eurorbem.sorbonne-universite.fr/event/genre-et-violences-en-europe-et-en-eurasie-contemporaines/
LOCATION:INALCO –  Auditorium Dumézil\, 2 rue de de Lille\, Paris\, 75007\, France
CATEGORIES:Colloques et Journées d'étude
ATTACH;FMTTYPE=image/jpeg:https://eurorbem.sorbonne-universite.fr/wp-content/uploads/2024/05/Affiche_JE_17-05-2.jpg
END:VEVENT
BEGIN:VEVENT
DTSTART;TZID=Europe/Paris:20240517T150000
DTEND;TZID=Europe/Paris:20240517T170000
DTSTAMP:20260424T174628
CREATED:20240214T145441Z
LAST-MODIFIED:20240514T111323Z
UID:4142-1715958000-1715965200@eurorbem.sorbonne-universite.fr
SUMMARY:Observatoire du sensible – Prendre le pouls de la société russe à travers la littérature contemporaine
DESCRIPTION:Rencontre avec Sergueï LEBEDEV (Титан : рассказы\, Corpus\, 2022) et sa traductrice Julie GERBER.\n \nhttps://univ-lille-fr.zoom.us/j/93261981129?pwd=YkJkTExEVk1VbXc2OTJzMzZrTHhjUT09 \nID de réunion: 932 6198 1129\nCode secret: 877616 \nContact : claire.delaunay@univ-lille.fr \nProgramme 2024
URL:https://eurorbem.sorbonne-universite.fr/event/observatoire-du-sensible-prendre-le-pouls-de-la-societe-russe-a-travers-la-litterature-contemporaine-7/
LOCATION:Centre d’études slaves – Salle conférences\, 9 rue Michelet\, Paris\, 75006\, France
CATEGORIES:Conférences
ATTACH;FMTTYPE=image/jpeg:https://eurorbem.sorbonne-universite.fr/wp-content/uploads/2024/02/Affiche-Lebedev.jpg
END:VEVENT
BEGIN:VEVENT
DTSTART;TZID=Europe/Paris:20240528T193000
DTEND;TZID=Europe/Paris:20240528T193000
DTSTAMP:20260424T174628
CREATED:20240513T144302Z
LAST-MODIFIED:20260326T161240Z
UID:4474-1716924600-1716924600@eurorbem.sorbonne-universite.fr
SUMMARY:Palabres centre-européennes  Panorama des livres sur l'Europe centrale
DESCRIPTION:Séance animée par Clara Royer \nDomaine centre-européen\nEmil Szittya\, Le Cabinet de curiosités\, traduit de l’allemand par Aloïse Denis\, Séguier\, 2024. \nPrésenté par Clara Royer. \nDomaine lituanien\nAntanas Škėma\, Le Linceul blanc\, traduit du lituanien par Miglė Dulskytė\, Cambourakis\, 2024. \nPrésenté par la traductrice. \nDomaine polonais\nZuzanna Ginczanka\, Les Centaures & autres poèmes\, postfaces d’Isabelle Macor et Olivier Gallon\, traduit du polonais par Isabelle Macor\, La Barque\, 2024. \nPrésenté par la traductrice. \nDomaine tchèque\nZuzana Říhová\, Et ils revêtirent leurs fourrures d’aiguilles\, traduit du tchèque par Benoît Meunier\, Le Seuil\, 2024. \nPrésenté par Jana Kantoříková\, spécialiste de littérature tchèque. \nPROGRAMME \nEn présentiel uniquement\n– sous réserve de modification – \n  \n  \n  \n  \n 
URL:https://eurorbem.sorbonne-universite.fr/event/palabres-centre-europeennes-panorama-des-livres-sur-leurope-centrale-2/
LOCATION:Maison Heinrich Heine Cafétéria (sous-sol)\, Cité internationale universitaire\, 27c boulevard Jourdan\, Paris\, 75014\, France
CATEGORIES:Conférences
ATTACH;FMTTYPE=image/jpeg:https://eurorbem.sorbonne-universite.fr/wp-content/uploads/2023/11/Palabres-12-decembre-2023.jpg
END:VEVENT
BEGIN:VEVENT
DTSTART;TZID=Europe/Paris:20240530T150000
DTEND;TZID=Europe/Paris:20240530T160000
DTSTAMP:20260424T174628
CREATED:20240111T103823Z
LAST-MODIFIED:20240528T071738Z
UID:4024-1717081200-1717084800@eurorbem.sorbonne-universite.fr
SUMMARY:Une archive\, un chercheur
DESCRIPTION:Daniel BARIC (Sorbonne Université / Eur’ORBEM)\nGeorges Luciani (1903-1981) : retour sur le décentrement d’un slaviste\, ou la genèse de la Genèse du peuple ukrainien\n\nConférence du programme NUMERISLAV \nhttps://zoom.us/j/98848863048?pwd=dWFwUFRSQTJoODB5dW8vY0FiWGRsZz09\nID de réunion: 988 4886 3048\nCode secret: Archives \n  \n  \n  \n 
URL:https://eurorbem.sorbonne-universite.fr/event/une-archive-un-chercheur-13/
LOCATION:Institut d’études slaves – Salle de conférences\, 9 rue Michelet\, Paris\, 75006
CATEGORIES:Conférences
ATTACH;FMTTYPE=image/jpeg:https://eurorbem.sorbonne-universite.fr/wp-content/uploads/2024/01/WEB-Baric.jpg
END:VEVENT
END:VCALENDAR