BEGIN:VCALENDAR
VERSION:2.0
PRODID:-//EURORBEM - ECPv6.15.20//NONSGML v1.0//EN
CALSCALE:GREGORIAN
METHOD:PUBLISH
X-ORIGINAL-URL:https://eurorbem.sorbonne-universite.fr
X-WR-CALDESC:Évènements pour EURORBEM
REFRESH-INTERVAL;VALUE=DURATION:PT1H
X-Robots-Tag:noindex
X-PUBLISHED-TTL:PT1H
BEGIN:VTIMEZONE
TZID:Europe/Paris
BEGIN:DAYLIGHT
TZOFFSETFROM:+0100
TZOFFSETTO:+0200
TZNAME:CEST
DTSTART:20230326T010000
END:DAYLIGHT
BEGIN:STANDARD
TZOFFSETFROM:+0200
TZOFFSETTO:+0100
TZNAME:CET
DTSTART:20231029T010000
END:STANDARD
BEGIN:DAYLIGHT
TZOFFSETFROM:+0100
TZOFFSETTO:+0200
TZNAME:CEST
DTSTART:20240331T010000
END:DAYLIGHT
BEGIN:STANDARD
TZOFFSETFROM:+0200
TZOFFSETTO:+0100
TZNAME:CET
DTSTART:20241027T010000
END:STANDARD
BEGIN:DAYLIGHT
TZOFFSETFROM:+0100
TZOFFSETTO:+0200
TZNAME:CEST
DTSTART:20250330T010000
END:DAYLIGHT
BEGIN:STANDARD
TZOFFSETFROM:+0200
TZOFFSETTO:+0100
TZNAME:CET
DTSTART:20251026T010000
END:STANDARD
END:VTIMEZONE
BEGIN:VEVENT
DTSTART;TZID=Europe/Paris:20240919T160000
DTEND;TZID=Europe/Paris:20240919T180000
DTSTAMP:20260423T180515
CREATED:20240909T122843Z
LAST-MODIFIED:20240912T130520Z
UID:4802-1726761600-1726768800@eurorbem.sorbonne-universite.fr
SUMMARY:Présentation : Reconnaître\, rencontrer\, affronter l'URSS (1924-1991) – Revue des études slaves
DESCRIPTION:Présentation du dernier fascicule de la Revue des études slaves\,\n\nReconnaître\, rencontrer\, affronter l’URSS (1924-1991)\, sous la direction de Pierre Gonneau et Andreï Kozovoï\nEn présentiel et Zoom\nhttps://zoom.us/j/98878699296?pwd=cXyUKrV1V2pnA7afPFCLSr9J0mwTFD.1\nID de réunion: 988 7869 9296\nCode secret: 602558
URL:https://eurorbem.sorbonne-universite.fr/event/presentation-reconnaitre-rencontrer-affronter-lurss-1924-1991-revue-des-etudes-slaves/
LOCATION:Institut d’études slaves – Salle de conférences\, 9 rue Michelet\, Paris\, 75006
CATEGORIES:Conférences
ATTACH;FMTTYPE=image/jpeg:https://eurorbem.sorbonne-universite.fr/wp-content/uploads/2024/09/Couve-RES-95-1-2-1.jpg
END:VEVENT
BEGIN:VEVENT
DTSTART;TZID=Europe/Paris:20240923T180000
DTEND;TZID=Europe/Paris:20240923T200000
DTSTAMP:20260423T180515
CREATED:20240926T153159Z
LAST-MODIFIED:20240926T153317Z
UID:4892-1727114400-1727121600@eurorbem.sorbonne-universite.fr
SUMMARY:Cultures et civilisations : Europe-Russie
DESCRIPTION:Nicolas Aude (Sorbonne Université)\n« Isaac Babel et le spectre de la littérature mondiale » \nProgramme 2024-2025
URL:https://eurorbem.sorbonne-universite.fr/event/cultures-et-civilisations-europe-russie/
LOCATION:Maison de la Recherche – Ampithéatre G. Molinié\, 28 rue Serpente\, Paris\, 75006
CATEGORIES:Séminaires
END:VEVENT
BEGIN:VEVENT
DTSTART;TZID=Europe/Paris:20240930T180000
DTEND;TZID=Europe/Paris:20240930T200000
DTSTAMP:20260423T180515
CREATED:20240926T153436Z
LAST-MODIFIED:20240926T153849Z
UID:4897-1727719200-1727726400@eurorbem.sorbonne-universite.fr
SUMMARY:Cultures et civilisations : Europe-Russie
DESCRIPTION:Sarah Gruszka (CERCEC\, Eur’orbem)\n« Pénétrer dans le regard de l’assiégé. Renouveler l’histoire du blocus de Leningrad par les journaux personnels »
URL:https://eurorbem.sorbonne-universite.fr/event/cultures-et-civilisations-europe-russie-2/
LOCATION:Maison de la Recherche – Ampithéatre G. Molinié\, 28 rue Serpente\, Paris\, 75006
CATEGORIES:Séminaires
END:VEVENT
BEGIN:VEVENT
DTSTART;TZID=Europe/Paris:20240930T183000
DTEND;TZID=Europe/Paris:20240930T203000
DTSTAMP:20260423T180515
CREATED:20240925T100628Z
LAST-MODIFIED:20240925T102318Z
UID:4842-1727721000-1727728200@eurorbem.sorbonne-universite.fr
SUMMARY:Rencontre autour de l'ouvrage Concepts migrateurs : suivre les idées « qui voyagent »\, à la croisée des disciplines et des espaces
DESCRIPTION:Cette rencontre avec Ioulia Podoroga\, directrice de publication de l’ouvrage Concepts migrateurs : les lettres et les arts russes\, espaces de circulations et métamorphoses (XVIIIe-XXe siècles)\, paru en 2024 aux éditions Eur’ORBEM\, sera l’occasion d’une discussion autour de la problématique des concepts « qui voyagent »\, d’une discipline à l’autre\, d’un espace à l’autre.\nLa rencontre sera animée par Anne Madelain\, maître de conférences (Inalco)\, co-responsable de l’Observatoire de l’Europe médiane contemporaine (Inalco/CREE)\,\nchercheuse associée au Centre d’études des mondes russe\, caucasien et centre-européen (CERCEC). \n\n\nUn livre\, des collections\n\n\n\n\nConcepts migrateur​s​ : ​les lettres et les arts russes\, espaces de circulations et métamorphoses (XVIIIe-XXe siècles)\n« La Russie ne connaît pas de tradition philosophique comparable à celle qui s’est construite en France depuis Descartes ;\nen revanche\, la littérature y a assumé d’emblée à part entière le rôle qu’ailleurs elle partageait avec la philosophie : c’est par elle d’abord que l’époque se réfléchit\, et que passent les grandes controverses identitaires\, entre les tenants de la voie unique de la Russie (slavophiles) et les adeptes de la nécessité de rattraper l’Occident (occidentalistes)\, par exemple. Ainsi\, de nouvelles formes de pensée se sont développées en Russie : à travers la littérature d’abord\, puis dans les écrits des et sur les artistes (dans le modernisme et l’avant-garde russe). […] »
URL:https://eurorbem.sorbonne-universite.fr/event/rencontre-autour-de-louvrage-concepts-migrateurs-suivre-les-idees-qui-voyagent-a-la-croisee-des-disciplines-et-des-espaces/
LOCATION:Bulac – Auditorium\, 65 rue des Grands Moulins\, Paris\, 75013\, France
CATEGORIES:Conférences
ATTACH;FMTTYPE=image/jpeg:https://eurorbem.sorbonne-universite.fr/wp-content/uploads/2024/09/Popova_Philosopher.jpg
END:VEVENT
END:VCALENDAR