BEGIN:VCALENDAR
VERSION:2.0
PRODID:-//EURORBEM - ECPv6.15.20//NONSGML v1.0//EN
CALSCALE:GREGORIAN
METHOD:PUBLISH
X-WR-CALNAME:EURORBEM
X-ORIGINAL-URL:https://eurorbem.sorbonne-universite.fr
X-WR-CALDESC:Évènements pour EURORBEM
REFRESH-INTERVAL;VALUE=DURATION:PT1H
X-Robots-Tag:noindex
X-PUBLISHED-TTL:PT1H
BEGIN:VTIMEZONE
TZID:Europe/Paris
BEGIN:DAYLIGHT
TZOFFSETFROM:+0100
TZOFFSETTO:+0200
TZNAME:CEST
DTSTART:20230326T010000
END:DAYLIGHT
BEGIN:STANDARD
TZOFFSETFROM:+0200
TZOFFSETTO:+0100
TZNAME:CET
DTSTART:20231029T010000
END:STANDARD
BEGIN:DAYLIGHT
TZOFFSETFROM:+0100
TZOFFSETTO:+0200
TZNAME:CEST
DTSTART:20240331T010000
END:DAYLIGHT
BEGIN:STANDARD
TZOFFSETFROM:+0200
TZOFFSETTO:+0100
TZNAME:CET
DTSTART:20241027T010000
END:STANDARD
BEGIN:DAYLIGHT
TZOFFSETFROM:+0100
TZOFFSETTO:+0200
TZNAME:CEST
DTSTART:20250330T010000
END:DAYLIGHT
BEGIN:STANDARD
TZOFFSETFROM:+0200
TZOFFSETTO:+0100
TZNAME:CET
DTSTART:20251026T010000
END:STANDARD
END:VTIMEZONE
BEGIN:VEVENT
DTSTART;VALUE=DATE:20241104
DTEND;VALUE=DATE:20241225
DTSTAMP:20260422T110732
CREATED:20241112T101122Z
LAST-MODIFIED:20241112T102244Z
UID:5188-1730678400-1735084799@eurorbem.sorbonne-universite.fr
SUMMARY:La Lituanie au XXe siècle
DESCRIPTION:Mémoire des répressions et luttes pour l’indépendance sous l’œil de Juozas Kazlauskas\n\nLes photographies de Juozas Kazlauskas saisissent l’irruption de la douloureuse mémoire des déportations soviétiques\, propulsée au cœur de la lutte lituanienne pour l’indépendance à la fin des années 1980. \nFils de déportés\, Juozas Kazlauskas (1942-2002) fut un témoin sensible de l’émergence de ce passé tragique dans le débat et l’espace publics lituaniens. Il sillonna les lieux de l’exil et du Goulag\, en se rendant sur les rives de l’océan Arctique\, en Sibérie et au Kazakhstan. \nAux photographies prises sur ces lieux répondent les images de cortèges et de cérémonies qui\, au même moment\, rassemblaient\, à Vilnius ou à Kaunas\, des milliers de Lituaniens\, venus commémorer leurs morts\, exiger la vérité historique et revendiquer l’indépendance de leur pays. \nJuozas Kazlauskas\, Commémoration de la journée du deuil et de l’espoir dans la région de Vilnius\, lieu d’où partaient les convois pour la Sibérie\, 1989.\nCopyright Dalia Kazlauskienė / Lietuvos fotomenininkų sąjunga (Union des photographes de Lituanie)\, LFS KAZ 151.
URL:https://eurorbem.sorbonne-universite.fr/event/la-lituanie-au-xxe-siecle/
LOCATION:BULAC – Rez-de-jardin\, Galerie du Pôle des langues et civilisations\, 65 rue des Grands Moulins\, Paris\, 75013
CATEGORIES:Expositions
ATTACH;FMTTYPE=image/jpeg:https://eurorbem.sorbonne-universite.fr/wp-content/uploads/2024/11/Ch-0_Doc-1_LFS_Kaz_F224-1.jpg
END:VEVENT
BEGIN:VEVENT
DTSTART;TZID=Europe/Paris:20241203T173000
DTEND;TZID=Europe/Paris:20241203T193000
DTSTAMP:20260422T110732
CREATED:20241002T070054Z
LAST-MODIFIED:20241002T070102Z
UID:4909-1733247000-1733254200@eurorbem.sorbonne-universite.fr
SUMMARY:Le patrimoine culturel face à la guerre / Critical Heritage Studies in the Post-Socialist Space
DESCRIPTION:GUERRES ET PATRIMOINES RELIGIEUX\n\nAndriy FERT (National University of Kyiv-Mohyla Academy\, Zentrum für Osteuropa- und Internationale\nStudien\, ZOiS) :\n« (Not) Russian Saints: Church Commemorations and Decolonization in Ukraine » \nLubava ILLYENKO (Augsburg University) :\n« De-ukrainization of culture: looted archeological and religious treasures before 2014» \nJeanne KORMINA (GSRL – CNRS/EPHE) :\n« The Icon of the Border: Cultural Heritage\, Trauma\, and Collective Memory » \nProgramme 2024-2025 \nAccès à distance (Zoom) :\nhttps://zoom.us/j/95782769294?pwd=aFpbEK8irph00Sdgzu3YFiCynOum9w.1\nID de réunion: 957 8276 9294 ⎟ Code secret: 460686
URL:https://eurorbem.sorbonne-universite.fr/event/le-patrimoine-culturel-face-a-la-guerre-critical-heritage-studies-in-the-post-socialist-space-2/
LOCATION:Maison de la Recherche – Sorbonne Université\, 28 Rue Serpente\, Paris\, 75006\, France
CATEGORIES:Séminaires
ATTACH;FMTTYPE=image/png:https://eurorbem.sorbonne-universite.fr/wp-content/uploads/2024/10/Prog_CHS_24-25-1.png
END:VEVENT
BEGIN:VEVENT
DTSTART;VALUE=DATE:20241204
DTEND;VALUE=DATE:20241207
DTSTAMP:20260422T110732
CREATED:20241119T160909Z
LAST-MODIFIED:20241128T123925Z
UID:5214-1733270400-1733529599@eurorbem.sorbonne-universite.fr
SUMMARY:Les citoyens russes depuis le 24 février 2022: former\, exprimer et vivre son rapport à la guerre en Ukraine
DESCRIPTION:Programme \nOrganisation\nRus-Op 2022 project | rusop2022@gmail.com \nInscription obligatoire : en scannant le QR code ou en cliquant sur le lien figurant sur le programme\n \n 
URL:https://eurorbem.sorbonne-universite.fr/event/les-citoyens-russes-depuis-le-24-fevrier-2022-former-exprimer-et-vivre-son-rapport-a-la-guerre-en-ukraine/
LOCATION:MSH (salle du Comptoir)\, 54 bd Raspail\, Paris\, 75006
CATEGORIES:Colloques et Journées d'étude
ATTACH;FMTTYPE=image/jpeg:https://eurorbem.sorbonne-universite.fr/wp-content/uploads/2024/11/ColloqueRUSOP_Affiche.jpg
END:VEVENT
BEGIN:VEVENT
DTSTART;TZID=Europe/Paris:20241205T170000
DTEND;TZID=Europe/Paris:20241205T190000
DTSTAMP:20260422T110732
CREATED:20241022T135226Z
LAST-MODIFIED:20241203T141945Z
UID:5074-1733418000-1733425200@eurorbem.sorbonne-universite.fr
SUMMARY:Histoire de la littérature russe\, XVIIIe-XXe siècles
DESCRIPTION:Stanislas Savitskii (Universität Tübingen)\n« Walk as a Genre of Russian and Soviet Literatures ».\n(via zoom) \nhttps://zoom.us/j/92556026840?pwd=zjQMZmSfaSiec3KPHZWIAXxm8Hadi8.1\nID de réunion: 925 5602 6840\nCode secret: 653923\n\n\nProgramme S1 24-25
URL:https://eurorbem.sorbonne-universite.fr/event/5074/
LOCATION:ZOOM
CATEGORIES:Séminaires
END:VEVENT
BEGIN:VEVENT
DTSTART;TZID=Europe/Paris:20241206T140000
DTEND;TZID=Europe/Paris:20241206T170000
DTSTAMP:20260422T110732
CREATED:20241205T065604Z
LAST-MODIFIED:20241205T070124Z
UID:5289-1733493600-1733504400@eurorbem.sorbonne-universite.fr
SUMMARY:La Revue des Livres du GDR CEM
DESCRIPTION:Programme \n\nXavier Galmiche\, Pawel Rodak (dir.)\, La guerre est finie ? 1918 et après en Europe centrale\, Revue des études slaves n° 94/4\, 2024 – présenté par Xavier Galmiche \nIsabelle Davion\, La Paix les uns contre les Autres. Les traités de paix 1918-1923\, Sorbonne Université Presses\, 2023 – présenté par l’autrice \nNaïma Berkane et Lola Sinoimeri (dir.)\, Créer et interpréter en féministes. Femmes et engagement dans les littératures et les arts des Balkans. XXe et XXIe s.\, Balkanologie\, vol. 18\, n° 2\, 2024 – présenté par Naïma Berkane et Lola Sinoimeri\nBéatrice von Hirschhausen\, Les provinces du temps. Frontières fantômes et expériences de l’Histoire\, CNRS éditions\, 2023 – présenté par l’autrice \nHélène Camarade\, Xavier Galmiche\, Luba Jurgenson\, Samizdat : publications clandestines et autoédition en Europe centrale et orientales\, années 1950-1990\, Nouveau Monde éditions\, 2023 – présenté par Luba Jurgenson et Xavier Galmiche\nOphir Levy et Emmanuel Taïeb\, Puissance politique des images\, PUF\, 2024 – présenté par Ophir Levy \nJérôme Heurtaux (dir.)\, Pensées captives : répression et défense des libertés académiques en Europe centrale et orientale (et au-delà) : trente ans de recherche au Cefres de Prague\, éds. Codex\, 2024 – présenté par Jérôme Heurtaux \nCoup de chapeau à Intersections Films qui rééditent 3 films polonais : L’Homme de marbre\, L’Homme de Fer d’A. Wajda et L’Interrogatoire de R. Bugajski – présenté par Ania Szczepanska\n\nLa Revue des Livres du GDR CEM \nPastel de Béla Kádár\, Femme lisant un livre © Clara Royer
URL:https://eurorbem.sorbonne-universite.fr/event/la-revue-des-livres-du-gdr-cem/
LOCATION:INALCO – Maison de la recherche\, 2 rue de Lille\, Paris\, France
CATEGORIES:Conférences
ATTACH;FMTTYPE=image/jpeg:https://eurorbem.sorbonne-universite.fr/wp-content/uploads/2024/12/La-Revue-des-Livres.jpg
END:VEVENT
BEGIN:VEVENT
DTSTART;TZID=Europe/Paris:20241206T143000
DTEND;TZID=Europe/Paris:20241206T163000
DTSTAMP:20260422T110732
CREATED:20241104T132752Z
LAST-MODIFIED:20241104T132937Z
UID:5140-1733495400-1733502600@eurorbem.sorbonne-universite.fr
SUMMARY:La catastrophe en « je ». Violences de masse et pratiques diaristes au XXe siècle
DESCRIPTION:« Selfless Witnessing? Ludwik Landau’s Chronicle of War and Occupation (1939-1944) and the Tradition of Polish Social Documentation » (Malgorzata Mazurek) \nLudwik Landau’s wartime chronicle\, written on the “Aryan Side” in ethnically segregated Warsaw\, is one the most detailed (nearly 2000 pages in print) and yet elusive diaries created under the Nazi occupation. Its author\, Ludwik Landau–Polish interwar economist-cum-historian and the co-creator (with Michał Kalecki) of Poland’s first national income account– documented daily events in Warsaw\, Poland\, and the world at large for the Polish Underground State’s civic institutions from October 1939 until his mysterious disappearance in February 1944. This talk discusses the narrator’s extreme self-effacement\, which manifested in statistically-minded objectivism\, even in his most personal writing. Facing horrors daily\, Landau had turned to dry facts rather than to the expression of his own feelings. For his closest friends and contemporaries\, the Chronicle felt like a “work […] written in “subdued style of factual dispatches” (Michał Kalecki) or “by a hand directed by the faceless mass\, by a needle in a seismograph” (Gustaw Herling-Grudziński). This talk discusses the puzzle of Landau’s narrative self-effacement and the choice of the chronicle genre in the larger context of Poland’s tradition of social documentation\, economic statistics\, social history writing\, and underground knowledge production. \nProgramme 2024-2025
URL:https://eurorbem.sorbonne-universite.fr/event/la-catastrophe-en-je-violences-de-masse-et-pratiques-diaristes-au-xxe-siecle-13/
LOCATION:Campus Condorcet-Centre de colloques / Auditorium 150\, Place du Front populaire\, Aubervilliers\, 93322
CATEGORIES:Séminaires
ATTACH;FMTTYPE=image/jpeg:https://eurorbem.sorbonne-universite.fr/wp-content/uploads/2024/11/PROGRAMME-La-catastrophe-en-je.jpg
END:VEVENT
BEGIN:VEVENT
DTSTART;VALUE=DATE:20241211
DTEND;VALUE=DATE:20241213
DTSTAMP:20260422T110732
CREATED:20240712T131833Z
LAST-MODIFIED:20241203T081109Z
UID:4637-1733875200-1734047999@eurorbem.sorbonne-universite.fr
SUMMARY:Les études sur l’Asie centrale : pluridisciplinarité et connexions d'un champ
DESCRIPTION:Les journées consacrées aux études sur l’Asie centrale « pluridisciplinarité et connexions d’un champ » sont organisées dans le cadre des activités du GIS Moyen-Orient et Mondes musulmans\, en partenariat avec le Centre de recherche sur le Monde iranien (CeRMI)\, l’Institut français d’études sur l’Asie (IFEAC)\, le Centre d’archéologie de l’Asie centrale Zoostan (CNRS\, KazNU) et le CREE.  Elles font suite à la rencontre qui s’est tenue en février 2023 intitulée « Les études sur l’Asie centrale : dynamiques scientifiques\, nouveaux contextes de recherche ». \nDans la perspective de renforcer la structuration du champ\, les journées d’étude ont pour ambition de promouvoir les études centrasiatiques en rendant compte de leur dynamisme et de leur diversité\, de mettre en relation ses différentes disciplines et composantes\, et de constituer un moment d’échanges entre les chercheuses et chercheurs impliqué-e-s dans les travaux sur la région. L’Asie centrale est entendue dans une acception géographique large\, s’étendant de l’Iran à la Mongolie et de l’Afghanistan à la Russie. \nCes rencontres donneront à voir les recherches en cours dans le large spectre des sciences humaines et sociales\, de l’Antiquité jusqu’à nos jours\, sur des thématiques aussi diverses que le patrimoine\, le religieux\, le pouvoir\, le territoire\, les rapports sociaux\, les circulations\, le numérique\, le changement climatique\, les approches critiques\, etc. \nProgramme\nAppel à communication
URL:https://eurorbem.sorbonne-universite.fr/event/aac-les-etudes-sur-lasie-centrale-pluridisciplinarite-et-connexions-dun-champ/
LOCATION:INALCO –  Auditorium Dumézil\, 2 rue de de Lille\, Paris\, 75007\, France
CATEGORIES:Appels à communications,Colloques et Journées d'étude
ATTACH;FMTTYPE=image/jpeg:https://eurorbem.sorbonne-universite.fr/wp-content/uploads/2024/07/Affiche_JE_AC_11-et-12-12_2024.jpg
END:VEVENT
BEGIN:VEVENT
DTSTART;TZID=Europe/Paris:20241213T193000
DTEND;TZID=Europe/Paris:20241213T213000
DTSTAMP:20260422T110732
CREATED:20241213T162847Z
LAST-MODIFIED:20241213T163103Z
UID:5303-1734118200-1734125400@eurorbem.sorbonne-universite.fr
SUMMARY:Destination Francophonie en Tchéquie
DESCRIPTION:Projection en avant-première de Destination Francophonie en Tchéquie le magazine de voyage de TV5MONDE qui propose de découvrir la Tchéquie à travers le regard des Tchèques francophones. \nLa projection sera suivie d’un débat avec l’auteur et le présentateur de l’émission\, M. Ivan Kabacoff. \n paris@czechcentres.cz \n 
URL:https://eurorbem.sorbonne-universite.fr/event/destination-francophonie-en-tchequie/
LOCATION:Centre tchèque\, 18\, rue Bonaparte\, Paris\, 75006\, France
CATEGORIES:Conférences
ATTACH;FMTTYPE=image/jpeg:https://eurorbem.sorbonne-universite.fr/wp-content/uploads/2024/12/Projection-du-13-decembre-2024.jpg
END:VEVENT
BEGIN:VEVENT
DTSTART;TZID=Europe/Paris:20241217T193000
DTEND;TZID=Europe/Paris:20241217T213000
DTSTAMP:20260422T110732
CREATED:20241209T073525Z
LAST-MODIFIED:20260326T162518Z
UID:5297-1734463800-1734471000@eurorbem.sorbonne-universite.fr
SUMMARY:Palabres centre européennes Panorama des livres sur l'Europe centrale
DESCRIPTION:Domaine centre et est-européen \nJérôme Heurtaux (dir.)\, Pensées captives : répression et défense des libertés académiques en Europe centrale et orientale (et au-delà) : trente ans de recherche au CEFRES de Prague\, Ploemeur\, éd. Codex\, 2024. Présenté par l’auteur. \nDomaine polonais \nValentin Behr\, Science du passé\, politique du présent : la politique historique en Pologne\, Vulaines-sur-Seine\, éd. du Croquant\, 2024 . Présenté par l’auteur. \n Domaine ukrainien \nSerhii Plokhy\, Aux portes de l’Europe : histoire de l’Ukraine\, traduit de l’anglais par Jacques Dalarun\, Paris\, Gallimard\, 2022. Présenté par Paul Lenormand. \nDomaine tchèque \nVladislav Vančura\, Le Lac Ukereve\, traduit du tchèque par Jana Kantoříková et Daniel S. Larangé\, Université Charles de Prague\, Karolinum Press\, 2024. Présenté par la traductrice. \nSéance animée par Paul Lenormand\, historien\, spécialiste de l’Europe centrale \nProgramme
URL:https://eurorbem.sorbonne-universite.fr/event/palabres-centre-europeennes-panorama-des-livres-sur-leurope-centrale-4/
LOCATION:Centre tchèque\, 18\, rue Bonaparte\, Paris\, 75006\, France
CATEGORIES:Conférences
ATTACH;FMTTYPE=image/jpeg:https://eurorbem.sorbonne-universite.fr/wp-content/uploads/2023/11/Palabres-12-decembre-2023.jpg
END:VEVENT
BEGIN:VEVENT
DTSTART;TZID=Europe/Paris:20241218T170000
DTEND;TZID=Europe/Paris:20241218T190000
DTSTAMP:20260422T110732
CREATED:20241213T162233Z
LAST-MODIFIED:20241213T162322Z
UID:5301-1734541200-1734548400@eurorbem.sorbonne-universite.fr
SUMMARY:Séminaire doctoral PeTaLes (Penser et Traduire autrement les Littératures)
DESCRIPTION:Marcello Garzaniti (Université de Bologne) : « Les modèles interprétatifs des origines de l’histoire des littératures slaves »\nCatherine Géry (Inalco) : « Quel récit littéraire pour les écrivaines russes ? »\n\nhttps://zoom.us/j/99257636185\nID de réunion: 992 5763 6185\n 
URL:https://eurorbem.sorbonne-universite.fr/event/seminaire-doctoral-petales-penser-et-traduire-autrement-les-litteratures-3/
LOCATION:ZOOM
CATEGORIES:Séminaires
ATTACH;FMTTYPE=image/jpeg:https://eurorbem.sorbonne-universite.fr/wp-content/uploads/2023/11/PETALES.jpg
END:VEVENT
BEGIN:VEVENT
DTSTART;TZID=Europe/Paris:20241220T140000
DTEND;TZID=Europe/Paris:20241220T163000
DTSTAMP:20260422T110732
CREATED:20240823T090816Z
LAST-MODIFIED:20241213T163619Z
UID:4777-1734703200-1734712200@eurorbem.sorbonne-universite.fr
SUMMARY:Séminaire commun Eur'ORBEM  La revue des livres d’Eur’ORBEM
DESCRIPTION:Programme de la Revue des Livres \n\nLaetitia Decourt : Laetitia Decourt\, L’Ironie romantique\, éditions Eur’ORBEM\, coll. Textes\, 2024.\nRodolphe Baudin : Nikolaï Karamzine\, Lettres d’un voyageur russe en Suisse\, tr. fr.\, introduction\, notes et commentaire R. Baudin\, Florides Helvètes\, 2024.\nSylvie Archaimbault : S. Archaimbault\, Marie-Christine Autant-Mathieu\, Laetitia Le Guay\, Fiodor Chaliapine\, un chanteur au croisement des arts\, Revue russe n° 62\, 2024.\nOlessia Koudriavtseva-Velmans et Stamatis Zochios : Stamatis Zochios et Evangelos Karamanés (dir.)\, L’au-delà en Europe de l’Est et du Sud-Est\, Études Balkaniques – Cahiers Pierre Belon\, n° 26\, 2022.\nMarina Goussev : Sarah Gruzska\, Le Siège de Leningrad. Septembre 1941-Janvier 1944\, éds. Tallandier\, 2024.\nLuba Jurgenson : Paul Bernard-Nouraud\, Luba Jurgenson et Irina Tcherneva (dir.)\, Photographier la violence extrême : témoigner par l’image\, éds. Petra\, 2024.\nClara Royer : József Debreczeni\, Le Crématorium froid\, tr. fr.\, postface et notes C. Royer\, Stock\, 2024.\nVladislav Staf : Antony Kalashnikov\, Monuments for Posterity: Self-Commemoration and the Stalinist Culture of Time\,Ithaca: Cornell University Press\, 2023.\n\nProgramme 2024-2025
URL:https://eurorbem.sorbonne-universite.fr/event/seminaire-commun-eurorbem-19/
LOCATION:Maison de la recherche (Salle D323)\, 28 rue Serpente\, Paris\, 75006\, France
CATEGORIES:Séminaire commun Eur'ORBEM,Séminaires
END:VEVENT
END:VCALENDAR