BEGIN:VCALENDAR
VERSION:2.0
PRODID:-//EURORBEM - ECPv6.15.20//NONSGML v1.0//EN
CALSCALE:GREGORIAN
METHOD:PUBLISH
X-WR-CALNAME:EURORBEM
X-ORIGINAL-URL:https://eurorbem.sorbonne-universite.fr
X-WR-CALDESC:Évènements pour EURORBEM
REFRESH-INTERVAL;VALUE=DURATION:PT1H
X-Robots-Tag:noindex
X-PUBLISHED-TTL:PT1H
BEGIN:VTIMEZONE
TZID:Europe/Paris
BEGIN:DAYLIGHT
TZOFFSETFROM:+0100
TZOFFSETTO:+0200
TZNAME:CEST
DTSTART:20240331T010000
END:DAYLIGHT
BEGIN:STANDARD
TZOFFSETFROM:+0200
TZOFFSETTO:+0100
TZNAME:CET
DTSTART:20241027T010000
END:STANDARD
BEGIN:DAYLIGHT
TZOFFSETFROM:+0100
TZOFFSETTO:+0200
TZNAME:CEST
DTSTART:20250330T010000
END:DAYLIGHT
BEGIN:STANDARD
TZOFFSETFROM:+0200
TZOFFSETTO:+0100
TZNAME:CET
DTSTART:20251026T010000
END:STANDARD
BEGIN:DAYLIGHT
TZOFFSETFROM:+0100
TZOFFSETTO:+0200
TZNAME:CEST
DTSTART:20260329T010000
END:DAYLIGHT
BEGIN:STANDARD
TZOFFSETFROM:+0200
TZOFFSETTO:+0100
TZNAME:CET
DTSTART:20261025T010000
END:STANDARD
END:VTIMEZONE
BEGIN:VEVENT
DTSTART;TZID=Europe/Paris:20250204T120000
DTEND;TZID=Europe/Paris:20250204T133000
DTSTAMP:20260422T052109
CREATED:20250129T143854Z
LAST-MODIFIED:20250129T143931Z
UID:5519-1738670400-1738675800@eurorbem.sorbonne-universite.fr
SUMMARY:UNDER EASTERN EYES East European Writers Reimagining the West from the Great War to Present Times
DESCRIPTION:Przemysław Czapliński (UAM\, Poznań)\nThe alternative of the West\, or how Polish culture moved to the North\nLien zoom\nhttps://cnrs.zoom.us/j/99410228354?pwd=bRDyKpmosiR4xWb5tbBcQBS5oZ4UcB.1 \nUNES Seminar Program 2025_4EU+
URL:https://eurorbem.sorbonne-universite.fr/event/under-eastern-eyes-east-european-writers-reimagining-the-west-from-the-great-war-to-present-times-3/
LOCATION:ZOOM
CATEGORIES:Séminaires
ATTACH;FMTTYPE=image/jpeg:https://eurorbem.sorbonne-universite.fr/wp-content/uploads/2025/01/UNES_Seminar-Program_2025_4EU-copie.jpg
END:VEVENT
BEGIN:VEVENT
DTSTART;TZID=Europe/Paris:20250204T173000
DTEND;TZID=Europe/Paris:20250204T193000
DTSTAMP:20260422T052109
CREATED:20241002T070356Z
LAST-MODIFIED:20250128T135826Z
UID:4913-1738690200-1738697400@eurorbem.sorbonne-universite.fr
SUMMARY:Le patrimoine culturel face à la guerre / Critical Heritage Studies in the Post-Socialist Space
DESCRIPTION:DÉSOVIÉTISATION DANS L’ESPACE POST-SOCIALISTE \nYouri LATYSH (revue Istoričeskaja èkspertiza) :\n« La désoviétisation\, composante de la décolonisation de l’Ukraine » (en russe) \nSergueï ERLIKH (revue Istoričeskaja èkspertiza) :\n« La désoviétisation rampante en Russie » (en russe) \nPour obtenir le lien Zoom\, merci d’écrire à Alexandra Kolesnik : aleksandra.kolesnik@uni-bielefeld.de \nRésumés \nProgramme 2024-2025 \n  \n 
URL:https://eurorbem.sorbonne-universite.fr/event/4913/
LOCATION:Maison de la Recherche – Sorbonne Université\, 28 Rue Serpente\, Paris\, 75006\, France
CATEGORIES:Séminaires
ATTACH;FMTTYPE=image/jpeg:https://eurorbem.sorbonne-universite.fr/wp-content/uploads/2024/10/Critical_Heritage_Studies_4_02-2025-1.jpg
END:VEVENT
BEGIN:VEVENT
DTSTART;TZID=Europe/Paris:20250206T170000
DTEND;TZID=Europe/Paris:20250206T190000
DTSTAMP:20260422T052109
CREATED:20250127T080637Z
LAST-MODIFIED:20250204T130028Z
UID:5412-1738861200-1738868400@eurorbem.sorbonne-universite.fr
SUMMARY:Séance annulée – Histoire de la littérature russe\, XVIIIe-XXe siècles
DESCRIPTION:Séance (en russe) sur Zoom uniquement. \nKsenia Butuzova (Oxford University) : История ребусов в Российской Империи: игры\,\nзагадки и визуальная культура. \nhttps://zoom.us/j/95289344476?pwd=yvHQQl2EU1zo0xgdbVbUEH6ESuMoEu.1\nID de réunion: 952 8934 4476\nCode secret: Livres \nProgramme S2 – 24-25
URL:https://eurorbem.sorbonne-universite.fr/event/seminaire-de-litterature-russe-3/
LOCATION:ZOOM
CATEGORIES:Séminaires
END:VEVENT
BEGIN:VEVENT
DTSTART;TZID=Europe/Paris:20250207T140000
DTEND;TZID=Europe/Paris:20250207T153000
DTSTAMP:20260422T052109
CREATED:20250129T143307Z
LAST-MODIFIED:20250129T144252Z
UID:5513-1738936800-1738942200@eurorbem.sorbonne-universite.fr
SUMMARY:UNDER EASTERN EYES – East European Writers Reimagining the West from the Great War to Present Times
DESCRIPTION:Jana Kantoříková (SU)\nAfrican Czech Writers: Identity\, Coloniality and Allure of the West\nLien zoom\nhttps://cnrs.zoom.us/j/99410228354?pwd=bRDyKpmosiR4xWb5tbBcQBS5oZ4UcB.1 \nUNES Seminar Program 2025_4EU+
URL:https://eurorbem.sorbonne-universite.fr/event/under-eastern-eyes-east-european-writers-reimagining-the-west-from-the-great-war-to-present-times/
LOCATION:ZOOM
CATEGORIES:Séminaires
ATTACH;FMTTYPE=image/jpeg:https://eurorbem.sorbonne-universite.fr/wp-content/uploads/2025/01/UNES_Seminar-Program_2025_4EU-copie.jpg
END:VEVENT
BEGIN:VEVENT
DTSTART;TZID=Europe/Paris:20250211T193000
DTEND;TZID=Europe/Paris:20250211T210000
DTSTAMP:20260422T052109
CREATED:20250203T132919Z
LAST-MODIFIED:20260326T163158Z
UID:5551-1739302200-1739307600@eurorbem.sorbonne-universite.fr
SUMMARY:Palabres centre européennes  Panorama des livres sur l’Europe centrale
DESCRIPTION:Personnalités centre-européennes\nIzabela Wagner : Zygmunt Bauman. Une biographie\, Paris\, éd. des Sciences de l’Homme\, 2024. Présenté par l’auteure. \nDomaine polonais\nHanna Krall\, La Douleur fantôme\, traduit du polonais par Margot Carlier\, Paris\, éd. Noir sur Blanc\, 2024. Présenté par la traductrice. \nDomaine bulgare \nAnguel Igov\, Les doux\, traduit du bulgare par Marie Vrinat-Nikolov\, Paris\, Intervalles\, 2023. Présenté par la traductrice. \nDomaine hongrois\nJozsef Debreczeni\, Le crématorium froid : au Pays d’Auschwitz\, traduit du hongrois par Clara Royer\, Paris\, éd. du Stock\, 2024. Présenté par la traductrice. \n– sous réserve de modification – \nEntrée libre sur réservation :\nhttps://www.helloasso.com/associations/maison-de-la-culture-yiddish-bibliotheque-medem/evenements/2025-02 \nProgramme
URL:https://eurorbem.sorbonne-universite.fr/event/palabres-centre-europeennes-panorama-des-livres-sur-leurope-centrale-5/
LOCATION:Maison de la culture Yiddish\, 29\, rue du Château d’eau\, Paris\, 75010\, France
CATEGORIES:Conférences
ATTACH;FMTTYPE=image/jpeg:https://eurorbem.sorbonne-universite.fr/wp-content/uploads/2023/11/Palabres-12-decembre-2023.jpg
END:VEVENT
BEGIN:VEVENT
DTSTART;TZID=Europe/Paris:20250212T090000
DTEND;TZID=Europe/Paris:20250213T180000
DTSTAMP:20260422T052109
CREATED:20250205T095241Z
LAST-MODIFIED:20250213T091013Z
UID:5559-1739350800-1739469600@eurorbem.sorbonne-universite.fr
SUMMARY:Des savoirs à repenser\, des approches à questionner ? Les États baltes\, l’Ukraine\, la Biélorussie et la Moldavie entre Europe médiane et espace ex-soviétique
DESCRIPTION:Programme \nLien Zoom : https://pantheonsorbonne.zoom.us/j/97773506125?pwd=UkdErb9XULyVVlTKY54ZZMccPAHigA.1\nID de réunion: 977 7350 6125\nCode secret: 425596
URL:https://eurorbem.sorbonne-universite.fr/event/des-savoirs-a-repenser-des-approches-a-questionner-les-etats-baltes-lukraine-la-bielorussie-et-la-moldavie-entre-europe-mediane-et-espace-ex-sovietique/
CATEGORIES:Colloques et Journées d'étude
ATTACH;FMTTYPE=image/jpeg:https://eurorbem.sorbonne-universite.fr/wp-content/uploads/2025/02/Programme_Des-savoirs-a-repenser-12-13-fevrier-2025-1.jpg
END:VEVENT
BEGIN:VEVENT
DTSTART;TZID=Europe/Paris:20250212T190000
DTEND;TZID=Europe/Paris:20250212T213000
DTSTAMP:20260422T052109
CREATED:20250207T142830Z
LAST-MODIFIED:20250207T143347Z
UID:5597-1739386800-1739395800@eurorbem.sorbonne-universite.fr
SUMMARY:Cinéma « Arrière-saison »
DESCRIPTION:Fiction de Zoltán Fábri\nHongrie\, 1966\, 119 min\, vostf \nSéance présentée par Mathieu Lericq\, spécialiste des cinématographies d’Europe centrale\, en prolongement du cycle\n« Une mémoire inquiète. Présences du passé juif dans le cinéma d’Europe centrale (1945-1967) » \n\n\n\nReconnu pour ses deux chefs-d’œuvre\, Un petit carrousel de fête (Körhinta\, 1955) et Vingt heures (Húsz óra\, 1964)\, le cinéaste Zoltán Fábri décide dans Arrière-saison (Utószezon) d’interroger son thème fétiche : la mentalité de ses compatriotes. \nSur un scénario de Péter Szász (rescapé juif du camp de Dachau)\, et d’après un roman de György Rónay publié en 1963\, le film aborde la question de la culpabilité à travers le récit troublant d’un apothicaire paranoïaque persuadé qu’un procès se prépare\, durant lequel il devra dire toute la vérité sur des actes antisémites commis avant 1945. \n\n\n\nAvec le soutien des Archives nationales du Film de Budapest
URL:https://eurorbem.sorbonne-universite.fr/event/cinema-arriere-saison/
LOCATION:Musée d’art et d’histoire du Judaïsme\, 71\, rue du Temple\, Paris\, 75003\, France
CATEGORIES:Conférences
ATTACH;FMTTYPE=image/png:https://eurorbem.sorbonne-universite.fr/wp-content/uploads/2025/02/Arrie_re_saison_Uto_szezon_ad59aa64b30551657cf29743430ea378.png
END:VEVENT
BEGIN:VEVENT
DTSTART;TZID=Europe/Paris:20250214T080000
DTEND;TZID=Europe/Paris:20250214T170000
DTSTAMP:20260422T052109
CREATED:20240823T091020Z
LAST-MODIFIED:20250207T095710Z
UID:4782-1739520000-1739552400@eurorbem.sorbonne-universite.fr
SUMMARY:Séminaire commun Eur'ORBEM  Arts\, images\, transculturalité\, intermédialités
DESCRIPTION:• Galyna Dranenko : Horizons lointains de Sophie Jablonska\n• Svetlana Gorshenina : Création d’un récit visuel de la conquête d’Akhal-Téké par l’empire russe : entre photographie et dessin.\nDiscutante : Luba Jurgenson\nhttps://zoom.us/j/91661307159?pwd=SO0Naxqg9QRjmcrRH4U4aSzs5jBh8U.1\nID de réunion: 916 6130 7159\n\nCode secret: 456258 \n  \n\nProgramme 2024-2025
URL:https://eurorbem.sorbonne-universite.fr/event/seminaire-commun-eurorbem-20/
LOCATION:Institut d’études slaves – Salle de conférences\, 9 rue Michelet\, Paris\, 75006
CATEGORIES:Séminaire commun Eur'ORBEM,Séminaires
END:VEVENT
BEGIN:VEVENT
DTSTART;TZID=Europe/Paris:20250219T150000
DTEND;TZID=Europe/Paris:20250219T170000
DTSTAMP:20260422T052109
CREATED:20250205T100813Z
LAST-MODIFIED:20250213T103334Z
UID:5570-1739977200-1739984400@eurorbem.sorbonne-universite.fr
SUMMARY:The Notions of ‘Dynamic Synchrony’\, Balancing System and Tendency in G. Y. Shevelov’s Linguistic Œuvre
DESCRIPTION:Kateryna KARUNYK (Université N. V. Karazin de Kharkiv\, Ukraine)\nThe Notions of ‘Dynamic Synchrony’\, Balancing System and Tendency in G. Y. Shevelov’s Linguistic Œuvre \nConférence en anglais et en ligne uniquement \nhttps://zoom.us/j/93431060768?pwd=wdrn1vPbXR55hXuEFFnmes9rc5I2fT.1\nID de réunion: 934 3106 0768\nCode secret: 709717
URL:https://eurorbem.sorbonne-universite.fr/event/the-notions-of-dynamic-synchrony-balancing-system-and-tendency-in-g-y-shevelovs-linguistic-oeuvre/
LOCATION:ZOOM
CATEGORIES:Conférences
ATTACH;FMTTYPE=image/jpeg:https://eurorbem.sorbonne-universite.fr/wp-content/uploads/2025/02/AFFICHE.jpg
END:VEVENT
BEGIN:VEVENT
DTSTART;TZID=Europe/Paris:20250219T173000
DTEND;TZID=Europe/Paris:20250219T193000
DTSTAMP:20260422T052109
CREATED:20241009T131559Z
LAST-MODIFIED:20241009T131731Z
UID:5043-1739986200-1739993400@eurorbem.sorbonne-universite.fr
SUMMARY:Séminaire doctoral IDEM
DESCRIPTION:Liz Escalle-Dyachenko (Doctorant·e en esthétique au laboratoire HAR de l’université Paris Nanterre)\, « Eugène Onéguine\, compositeur : une vie musicale trans au tournant du XXe siècle »\, \n\n\nle/la discutant(e) reste à définir.
URL:https://eurorbem.sorbonne-universite.fr/event/seminaire-doctoral-idem-3/
LOCATION:Pôle des Langues et Civilisations (Salle 6.05)\, 65 rue des Grands Moulins\, Paris\, 75013
CATEGORIES:Séminaires
ATTACH;FMTTYPE=image/jpeg:https://eurorbem.sorbonne-universite.fr/wp-content/uploads/2024/10/visuel_2_1ere_page_new.jpg
END:VEVENT
BEGIN:VEVENT
DTSTART;TZID=Europe/Paris:20250220T150000
DTEND;TZID=Europe/Paris:20250220T160000
DTSTAMP:20260422T052109
CREATED:20250203T125108Z
LAST-MODIFIED:20250213T103417Z
UID:5546-1740063600-1740067200@eurorbem.sorbonne-universite.fr
SUMMARY:Un épisode dans la redécouverte éternelle de l’identité ukrainienne. Autour d’Élie Borschak
DESCRIPTION:Cycle « Passerelles »\nSerhii Vakulenko \nUn épisode dans la redécouverte éternelle de l’identité ukrainienne. Autour d’Élie Borschak \nConférence en présentiel et en visio  \nhttps://zoom.us/j/97821265788?pwd=5BV5BMkUwkbgaRfWZoo780BSK6e99c.1\nN° de réunion: 978 2126 5788\nCode secret: 197315
URL:https://eurorbem.sorbonne-universite.fr/event/cycle-passerelles/
LOCATION:Institut d’études slaves – Salle de conférences\, 9 rue Michelet\, Paris\, 75006
CATEGORIES:Conférences
ATTACH;FMTTYPE=image/jpeg:https://eurorbem.sorbonne-universite.fr/wp-content/uploads/2025/02/Passerelles04.jpg
END:VEVENT
BEGIN:VEVENT
DTSTART;TZID=Europe/Paris:20250221T140000
DTEND;TZID=Europe/Paris:20250221T170000
DTSTAMP:20260422T052109
CREATED:20250213T092321Z
LAST-MODIFIED:20250213T093132Z
UID:5635-1740146400-1740157200@eurorbem.sorbonne-universite.fr
SUMMARY:Passeuses de mémoires : littératures et mémoires (post-)communistes des femmes dans les Balkans
DESCRIPTION:Séminaire inter-laboratoires 2024-2025 : L’espace littéraire de Berlin à Vladivostok – SÉANCE 3 \n(Dé)confiscation de mémoire ? Les écrits de femmes des camps communistes en Yougoslavie\nIntervention de Andjela Radonjic\, doctorante en études slaves\n\n\n\n\n\n\n\n\n\nPour une approche féministe de la (post)mémoire. Grand-mères et petites-filles dans les œuvres d’Anilda Ibrahimi\, Marica Bodrožić et Melinda Nadj Abonji\nIntervention de Lola Sinoimeri\, doctorante en littérature comparée\n  \n\nSur place : entrée libre. Présentez-vous à l’accueil de la bibliothèque.\nÀ distance : visioconférence via le logiciel Zoom\nRejoindre Zoom Réunion\n\n  \n\n\n\n\n\n\n\n\n 
URL:https://eurorbem.sorbonne-universite.fr/event/passeuses-de-memoires-litteratures-et-memoires-post-communistes-des-femmes-dans-les-balkans/
LOCATION:Bibliothèque Diderot de Lyon\, 5 parvis René Descartes\, Lyon\, 69007\, France
CATEGORIES:Séminaires
ATTACH;FMTTYPE=image/jpeg:https://eurorbem.sorbonne-universite.fr/wp-content/uploads/2025/02/Capture-decran-2025-02-13-a-10.29.24.jpg
END:VEVENT
BEGIN:VEVENT
DTSTART;TZID=Europe/Paris:20250221T150000
DTEND;TZID=Europe/Paris:20250221T170000
DTSTAMP:20260422T052109
CREATED:20250205T101332Z
LAST-MODIFIED:20250213T103038Z
UID:5575-1740150000-1740157200@eurorbem.sorbonne-universite.fr
SUMMARY:Présentation d'ouvrage :  Юрій Шевельов: Твердий ґрунт
DESCRIPTION:Kateryna Karunyk & Serhii Vakulenko\, éditeurs scientifiques\, présentation (en français) de leur ouvrage : Юрій Шевельов: Твердий ґрунт [George Shevelov : Des bases solides].\nRecueil d’articles rédigés entre 1944 et 1996\, consacrés aux relations Culture\, Science et Politique entre l’Ukraine\, la Russie et l’Occident.\nEn présentiel et Zoom \nhttps://zoom.us/j/94806637804?pwd=FV7oXqCSlonfbJnOuwlZC899XPaKU6.1\nID de réunion: 948 0663 7804\nCode secret: 486344
URL:https://eurorbem.sorbonne-universite.fr/event/presentation-douvrage-%d1%8e%d1%80%d1%96%d0%b9-%d1%88%d0%b5%d0%b2%d0%b5%d0%bb%d1%8c%d0%be%d0%b2-%d1%82%d0%b2%d0%b5%d1%80%d0%b4%d0%b8%d0%b9-%d2%91%d1%80%d1%83%d0%bd%d1%82/
LOCATION:Institut d’études slaves – Salle de conférences\, 9 rue Michelet\, Paris\, 75006
CATEGORIES:Conférences
ATTACH;FMTTYPE=image/jpeg:https://eurorbem.sorbonne-universite.fr/wp-content/uploads/2025/02/AFFICHE.jpg
END:VEVENT
BEGIN:VEVENT
DTSTART;TZID=Europe/Paris:20250227T150000
DTEND;TZID=Europe/Paris:20250227T170000
DTSTAMP:20260422T052109
CREATED:20250226T085310Z
LAST-MODIFIED:20250226T090233Z
UID:5764-1740668400-1740675600@eurorbem.sorbonne-universite.fr
SUMMARY:TAMIZDAT : Printed matter in exile?
DESCRIPTION:Séminaire avec la participation des auteurs et des chercheurs d’exil \nТеатр анти-военных действий\, ou dramaturgie d’exil. \nElena Gordienko (INALCO\, curatrice) / Andre Stadnikov (dramaturge) & Dmitriy Vlasik\n(compositeur) \nLien ZOOM https://us06web.zoom.us/j/86182889278?pwd=L8u5hrOfFHxtkDpubYUO7N2Iy8H0V8.1 \nProgramme TAMIZDAT 2025 \nContact : Pavel Arsenev (lartpaulars@gmail.com)\, Marina Pantina (pantinamarina@gmail.com).
URL:https://eurorbem.sorbonne-universite.fr/event/tamizdat-printed-matter-in-exile/
LOCATION:Institut d’études slaves – Salle de conférences\, 9 rue Michelet\, Paris\, 75006
CATEGORIES:Séminaires
ATTACH;FMTTYPE=image/jpeg:https://eurorbem.sorbonne-universite.fr/wp-content/uploads/2025/02/Programme-TAMIZDAT-2025-1.jpg
END:VEVENT
BEGIN:VEVENT
DTSTART;TZID=Europe/Paris:20250228T143000
DTEND;TZID=Europe/Paris:20250228T173000
DTSTAMP:20260422T052109
CREATED:20241104T133853Z
LAST-MODIFIED:20241104T134015Z
UID:5150-1740753000-1740763800@eurorbem.sorbonne-universite.fr
SUMMARY:La catastrophe en « je ». Violences de masse et pratiques diaristes au XXe siècle
DESCRIPTION:« Pratiques et productions diaristiques de correspondants de guerre soviétiques sur les fronts de la Seconde Guerre mondiale » (Emilia Koustova) \nÀ travers une série de textes inédits ou publiés\, nous évoquerons les diverses formes prises par l’écriture diaristique de journalistes et écrivains soviétiques mobilisés comme correspondants de guerre\, entre le « je » et le « nous »\, l’intime et la médiatisation. Tout en interrogeant l’inscription de cette pratique dans les traditions diaristiques\, littéraires et journalistiques russes et soviétiques\, nous nous intéresserons également aux destins de textes ainsi produits\, en interrogeant notamment leur place dans la construction de la mémoire du conflit en URSS et en Russie. \n« L’apport des écrits personnels à l’étude de la libération des camps nazis par l’Armée rouge » (Marina Goussev) \nCette présentation s’inscrit dans le cadre d’une thèse consacrée à la mémoire soviétique de la libération des camps nazis par l’Armée rouge. En se fondant sur des sources produites par divers acteurs (la presse\, les autorités militaires\, les enquêteurs\, les témoins oculaires et les historiens)\, elle a pour but de mettre au jour la façon dont cet événement a été perçu et mis en récit par les contemporains et par la suite mémorialisé en URSS.\nLa présente intervention prendra la forme d’une réflexion sur l’intérêt que présentent les journaux personnels des libérateurs soviétiques (combattants\, journalistes\, soignants) pour l’étude de la découverte des camps nazis. Après avoir décrit le corpus de sources identifiées\, il s’agira de dégager leur spécificité par rapport à d’autres types de témoignages (lettres\, récits de témoins publiés dans la presse\, témoignages en justice\, mémoires et entretiens réalisés des décennies plus tard)\, d’exposer les problématiques de recherche qu’ils permettent d’aborder et la méthode choisie pour les analyser. Il sera également question des difficultés liées à l’usage de ces documents en tant que sources\, notamment en ce qui concerne le problème de l’accès aux archives russes et les processus d’édition et de réécriture auxquels ont été soumis les journaux publiés en URSS. \nProgramme 2024-2025
URL:https://eurorbem.sorbonne-universite.fr/event/la-catastrophe-en-je-violences-de-masse-et-pratiques-diaristes-au-xxe-siecle-15/
LOCATION:Campus Condorcet-Centre de colloques / Auditorium 150\, Place du Front populaire\, Aubervilliers\, 93322
CATEGORIES:Séminaires
ATTACH;FMTTYPE=image/jpeg:https://eurorbem.sorbonne-universite.fr/wp-content/uploads/2024/11/PROGRAMME-La-catastrophe-en-je.jpg
END:VEVENT
END:VCALENDAR