BEGIN:VCALENDAR
VERSION:2.0
PRODID:-//EURORBEM - ECPv6.15.20//NONSGML v1.0//EN
CALSCALE:GREGORIAN
METHOD:PUBLISH
X-ORIGINAL-URL:https://eurorbem.sorbonne-universite.fr
X-WR-CALDESC:Évènements pour EURORBEM
REFRESH-INTERVAL;VALUE=DURATION:PT1H
X-Robots-Tag:noindex
X-PUBLISHED-TTL:PT1H
BEGIN:VTIMEZONE
TZID:Europe/Paris
BEGIN:DAYLIGHT
TZOFFSETFROM:+0100
TZOFFSETTO:+0200
TZNAME:CEST
DTSTART:20240331T010000
END:DAYLIGHT
BEGIN:STANDARD
TZOFFSETFROM:+0200
TZOFFSETTO:+0100
TZNAME:CET
DTSTART:20241027T010000
END:STANDARD
BEGIN:DAYLIGHT
TZOFFSETFROM:+0100
TZOFFSETTO:+0200
TZNAME:CEST
DTSTART:20250330T010000
END:DAYLIGHT
BEGIN:STANDARD
TZOFFSETFROM:+0200
TZOFFSETTO:+0100
TZNAME:CET
DTSTART:20251026T010000
END:STANDARD
BEGIN:DAYLIGHT
TZOFFSETFROM:+0100
TZOFFSETTO:+0200
TZNAME:CEST
DTSTART:20260329T010000
END:DAYLIGHT
BEGIN:STANDARD
TZOFFSETFROM:+0200
TZOFFSETTO:+0100
TZNAME:CET
DTSTART:20261025T010000
END:STANDARD
END:VTIMEZONE
BEGIN:VEVENT
DTSTART;VALUE=DATE:20250317
DTEND;VALUE=DATE:20250412
DTSTAMP:20260423T120344
CREATED:20250311T085902Z
LAST-MODIFIED:20250317T121405Z
UID:5913-1742169600-1744415999@eurorbem.sorbonne-universite.fr
SUMMARY:Exposition : Gombrowicz. Moi\, l'Européen
DESCRIPTION:Exposition en collaboration avec le Musée Gombrowicz de Vence. \nProgramme Semaine centre-européenne 2025 \nPour des raisons de sécurité\, les personnes extérieures à la Faculté des Lettres de Sorbonne Université désirant assister à une ou plusieurs manifestations\nau Centre Malesherbes doivent impérativement s’inscrire en envoyant leur nom et la date de leur venue : aurelie.rouget-garma@sorbonne-universite.fr
URL:https://eurorbem.sorbonne-universite.fr/event/gombrowicz-moi-leuropeen/
LOCATION:Centre Malesherbes– Hall / Bibliothèque\, 108 Bd Malesherbes\, Paris\, 75017\, France
CATEGORIES:Expositions
ATTACH;FMTTYPE=image/jpeg:https://eurorbem.sorbonne-universite.fr/wp-content/uploads/2025/03/Affiche-Semaine-centre-europeenne-2025-def-du-04.03.2025.jpg
END:VEVENT
BEGIN:VEVENT
DTSTART;TZID=Europe/Paris:20250403T170000
DTEND;TZID=Europe/Paris:20250403T190000
DTSTAMP:20260423T120344
CREATED:20250127T081957Z
LAST-MODIFIED:20250127T082105Z
UID:5428-1743699600-1743706800@eurorbem.sorbonne-universite.fr
SUMMARY:Histoire de la littérature russe\, XVIIIe-XXe siècles
DESCRIPTION:Séance (en russe) \nYuri Leving (Princeton University) : Анестезия речи: Русская поэзия во время войны.
URL:https://eurorbem.sorbonne-universite.fr/event/histoire-de-la-litterature-russe-xviiie-xxe-siecles-16/
LOCATION:Institut d’études slaves – Salle de conférences\, 9 rue Michelet\, Paris\, 75006
CATEGORIES:Séminaires
END:VEVENT
BEGIN:VEVENT
DTSTART;TZID=Europe/Paris:20250407T173000
DTEND;TZID=Europe/Paris:20250407T193000
DTSTAMP:20260423T120344
CREATED:20250401T073733Z
LAST-MODIFIED:20250401T074749Z
UID:6032-1744047000-1744054200@eurorbem.sorbonne-universite.fr
SUMMARY:Rencontre littéraire : Dušan Kovačević
DESCRIPTION:Légende vivante du théâtre et du cinéma serbes\, Dušan Kovačević a fait son entrée dans le monde du théâtre à la fin de ses études avec les pièces Radovan III et Les Marathoniens font un tour d’honneur. Depuis plus d’un demi-siècle\, ses œuvres sont régulièrement jouées dans les théâtres en Serbie et à l’étranger.\nSes films\, notamment Qui chante là-bas ?\, sont  devenus cultes.\nDušan Kovačević\, qui\, durant la période yougoslave\, a dû faire face à la censure communiste\, est une figure majeure de la culture serbe.\nLe scénario du film Underground\, réalisé par Emir Kusturica\, lui a valu la Palme d’Or à Cannes.
URL:https://eurorbem.sorbonne-universite.fr/event/rencontre-avec-dusan-kovacevic/
LOCATION:INALCO –  Auditorium Dumézil\, 2 rue de de Lille\, Paris\, 75007\, France
CATEGORIES:Conférences
ATTACH;FMTTYPE=image/jpeg:https://eurorbem.sorbonne-universite.fr/wp-content/uploads/2025/04/Sans-titre.jpg
END:VEVENT
BEGIN:VEVENT
DTSTART;TZID=Europe/Paris:20250408T173000
DTEND;TZID=Europe/Paris:20250408T193000
DTSTAMP:20260423T120344
CREATED:20241002T071010Z
LAST-MODIFIED:20241002T071104Z
UID:4920-1744133400-1744140600@eurorbem.sorbonne-universite.fr
SUMMARY:Le patrimoine culturel face à la guerre / Critical Heritage Studies in the Post-Socialist Space
DESCRIPTION:MÉMORIAUX VERNACULAIRES / POPULAIRES EN EUROPE ORIENTALE \nMischa GABOWITSCH (Johannes Gutenberg University Mainz)\, &\nMykola HOMANYUK (Kherson State University) :\n« Monuments and Territory: War Memorials in Russian-Occupied Ukraine » \nProgramme 2024-2025 \nAccès à distance (Zoom) :\nhttps://zoom.us/j/95782769294?pwd=aFpbEK8irph00Sdgzu3YFiCynOum9w.1\nID de réunion: 957 8276 9294 ⎟ Code secret: 460686
URL:https://eurorbem.sorbonne-universite.fr/event/le-patrimoine-culturel-face-a-la-guerre-critical-heritage-studies-in-the-post-socialist-space-5/
LOCATION:Maison de la Recherche – Sorbonne Université\, 28 Rue Serpente\, Paris\, 75006\, France
CATEGORIES:Séminaires
ATTACH;FMTTYPE=image/png:https://eurorbem.sorbonne-universite.fr/wp-content/uploads/2024/10/Prog_CHS_24-25-1.png
END:VEVENT
BEGIN:VEVENT
DTSTART;TZID=Europe/Paris:20250408T193000
DTEND;TZID=Europe/Paris:20250408T213000
DTSTAMP:20260423T120344
CREATED:20250411T132752Z
LAST-MODIFIED:20260326T163511Z
UID:6080-1744140600-1744147800@eurorbem.sorbonne-universite.fr
SUMMARY:Palabres centre européennes  Panorama des livres sur l’Europe centrale
DESCRIPTION:Séance animée par Luba Jurgenson\, écrivaine\, traductrice et universitaire \nDomaine autrichien\nFriederike Mayröcker\, Le crève-coeur des choses\, traduit de l’allemand par Anne Kubler\, Saint-Quentin-de-Caplong \, éd. Atelier de l’agneau\, 2025.\nPrésenté par Anne Kubler\, la traductrice\, en présence de Françoise Favretto\, l’éditrice. \nDomaine yiddish\nSh. An-Ski\, Le dibouk : entre deux mondes. Légende dramatique en 4 actes\, traduit du yiddish par Batia Baum\, Paris\, éd. Bibliothèque Medem\, 2024.\nPrésenté par Karolina Szymaniak\, spécialiste et traductrice de littérature yiddish. \nDomaine bulgare\nZinaïda Polimenova\, Nucléus : ce qui reste quand il n’y a plus rien\, Nolay\, éd. du chemin de fer\, 2024.\nPrésenté par l’auteure.\n\nDomaine centre-européen\nPaul Bernard-Nouraud\, Luba Jurgenson\, Irina Tcherneva (dir.)\, Photographier la violence extrême : témoigner par l’image\, Paris\, éd. Petra\, 2024.\nPrésenté par Luba Jurgenson.\n\n– sous réserve de modification \nProgramme
URL:https://eurorbem.sorbonne-universite.fr/event/palabres-centre-europeennes-panorama-des-livres-sur-leurope-centrale-6/
LOCATION:Forum Culturel Autrichien\, 17 avenue de Villars\,\, Paris\, 75007
CATEGORIES:Conférences
ATTACH;FMTTYPE=image/jpeg:https://eurorbem.sorbonne-universite.fr/wp-content/uploads/2023/11/Palabres-12-decembre-2023.jpg
END:VEVENT
BEGIN:VEVENT
DTSTART;TZID=Europe/Paris:20250409T100000
DTEND;TZID=Europe/Paris:20250411T170000
DTSTAMP:20260423T120344
CREATED:20250401T083210Z
LAST-MODIFIED:20250401T090831Z
UID:6046-1744192800-1744390800@eurorbem.sorbonne-universite.fr
SUMMARY:Braderie de printemps à l'Institut d'études slaves
DESCRIPTION:
URL:https://eurorbem.sorbonne-universite.fr/event/braderie-de-printemps-a-linstitut-detudes-slaves/
LOCATION:Institut d’études slaves\, 9 rue Michelet\, Paris\, 75006\, France
CATEGORIES:Braderie
ATTACH;FMTTYPE=image/jpeg:https://eurorbem.sorbonne-universite.fr/wp-content/uploads/2025/04/Site-NUMERIQUE-AFFICHE-BRADERIE-AVRIL-2025.jpg
END:VEVENT
BEGIN:VEVENT
DTSTART;TZID=Europe/Paris:20250409T100000
DTEND;TZID=Europe/Paris:20250422T170000
DTSTAMP:20260423T120344
CREATED:20250331T134427Z
LAST-MODIFIED:20250401T123912Z
UID:6026-1744192800-1745341200@eurorbem.sorbonne-universite.fr
SUMMARY:Exposition : L'inquiétude
DESCRIPTION:Exposition de Roustam Adioukov\nUne exploration de l’inquiétude comme état existentiel et point de bascule intérieur. \nVernissage le 8 avril à 17h30 \nL’exposition L’Inquiétude propose une exploration visuelle de l’état de fragilité dans lequel se trouve l’homme contemporain\, pris dans un tourbillon de bouleversements mondiaux\, d’instabilité et de perte de repères. Il ne s’agit pas simplement d’une série d’images\, mais d’une cartographie émotionnelle et philosophique d’un temps où l’inquiétude devient une présence constante. \nLes œuvres présentées ont été réalisées entre 2024 et 2025\, au cœur d’une période marquée par des tensions personnelles et collectives\, que l’artiste traduit avec une grande sensibilité à travers matières\, formes et symboles. \nRoustam Adioukov envisage l’inquiétude non seulement comme un sentiment destructeur\, mais aussi comme un mécanisme d’éveil intérieur.\nDans son œuvre\, l’artiste rejette toute littéralité. Son langage visuel repose sur les métaphores\, les symboles\, les signes implicites — un système expressif né à la frontière du ressenti intime et du monde extérieur. \nLa fragilité du papier\, la transparence du dessin\, la simplicité des matériaux (papier\, carton\, acrylique) ne sont pas des choix formels\, mais participent pleinement du concept : ils incarnent la vulnérabilité de notre réalité\, la précarité de nos constructions mentales et sociales. \nLes œuvres de l’artiste apparaissent comme des éclats de conscience\, des réponses émotionnelles aux événements contemporains\, des fragments d’une réflexion intérieure. Chacune d’elles invite le spectateur à une plongée dans ses propres émotions\, à une rencontre avec ses peurs\, mais aussi avec une lumière possible : celle du choix\, du renouveau\, de la reconstruction. \nL’exposition devient ainsi un espace d’introspection. Elle appelle non pas à fuir l’inquiétude\, mais à la reconnaître comme un moment possible de lucidité.\nÀ travers une trentaine d’œuvres graphiques et sculpturales\, Roustam Adioukov propose une expérience artistique profonde et personnelle\, où l’art devient langage de résistance intérieure et de renaissance.
URL:https://eurorbem.sorbonne-universite.fr/event/linquietude/
LOCATION:Centre d’études slaves – Salons du rez-de chaussée\, 9 rue Michelet\, Paris\, 75006
CATEGORIES:Expositions
ATTACH;FMTTYPE=image/jpeg:https://eurorbem.sorbonne-universite.fr/wp-content/uploads/2025/03/AfficheExposition-310325.jpg
END:VEVENT
BEGIN:VEVENT
DTSTART;TZID=Europe/Paris:20250410T150000
DTEND;TZID=Europe/Paris:20250410T170000
DTSTAMP:20260423T120344
CREATED:20250226T090025Z
LAST-MODIFIED:20250410T125229Z
UID:5778-1744297200-1744304400@eurorbem.sorbonne-universite.fr
SUMMARY:TAMIZDAT :  Printed matter in exile?
DESCRIPTION:Séminaire avec la participation des auteurs et des chercheurs d’exil \nTamizdat en trois ans : l’édition non censurée de la diaspora russe \nAglaé Achechova (Chargée des collections russes BULAC)\nТамиздат за три года : неподцензурное книгопечатание российской диаспоры \nProgramme TAMIZDAT 2025 \nContact : Pavel Arsenev (lartpaulars@gmail.com)\, Marina Pantina (pantinamarina@gmail.com). \nhttps://us06web.zoom.us/j/89153008505#success \n 
URL:https://eurorbem.sorbonne-universite.fr/event/tamizdat-printed-matter-in-exile-3/
LOCATION:Institut d’études slaves – Salle de conférences\, 9 rue Michelet\, Paris\, 75006
CATEGORIES:Séminaires
ATTACH;FMTTYPE=image/jpeg:https://eurorbem.sorbonne-universite.fr/wp-content/uploads/2025/02/Programme-TAMIZDAT-2025-1-1.jpg
END:VEVENT
BEGIN:VEVENT
DTSTART;TZID=Europe/Paris:20250410T170000
DTEND;TZID=Europe/Paris:20250410T190000
DTSTAMP:20260423T120344
CREATED:20250221T094904Z
LAST-MODIFIED:20250221T094954Z
UID:5751-1744304400-1744311600@eurorbem.sorbonne-universite.fr
SUMMARY:Histoire de la littérature russe\, XVIIIe-XXe siècles
DESCRIPTION:Séance (en russe) sur Zoom uniquement \nKsenia Butuzova (Oxford University) :\nИстория ребусов в Российской Империи: игры\, загадки и визуальная культура \nhttps://zoom.us/j/95289344476?pwd=yvHQQl2EU1zo0xgdbVbUEH6ESuMoEu.1\nID de réunion: 952 8934 4476\nCode secret: Livres \n 
URL:https://eurorbem.sorbonne-universite.fr/event/histoire-de-la-litterature-russe-xviiie-xxe-siecles-19/
LOCATION:ZOOM
CATEGORIES:Séminaires
END:VEVENT
BEGIN:VEVENT
DTSTART;TZID=Europe/Paris:20250411T143000
DTEND;TZID=Europe/Paris:20250411T163000
DTSTAMP:20260423T120344
CREATED:20241104T134814Z
LAST-MODIFIED:20241104T134917Z
UID:5164-1744381800-1744389000@eurorbem.sorbonne-universite.fr
SUMMARY:La catastrophe en « je ». Violences de masse et pratiques diaristes au XXe siècle
DESCRIPTION:« Écrire sa Grande Guerre sous occupation militaire » (Emmanuel Debruyne) \nDe l’autre côté des tranchées de 14-18 survivent des millions d’occupés\, en France\, en Belgique et dans d’autres pays européens. Enfermés dans un interminable isolement\, de nombreux occupés tiennent un journal. Plusieurs centaines d’entre eux nous sont parvenus\, qui constituent un matériau précieux pour l’historien\, tant par leur singularité que par leur masse. Cette communication se propose de donner un\naperçu de cette écriture de soi sous la première occupation\, mais aussi d’explorer quelques possibilités de recherche offertes par la masse documentaire que constituent ces journaux. \nProgramme 2024-2025
URL:https://eurorbem.sorbonne-universite.fr/event/la-catastrophe-en-je-violences-de-masse-et-pratiques-diaristes-au-xxe-siecle-18/
LOCATION:Campus Condorcet-Centre de colloques / Auditorium 150\, Place du Front populaire\, Aubervilliers\, 93322
CATEGORIES:Séminaires
END:VEVENT
BEGIN:VEVENT
DTSTART;TZID=Europe/Paris:20250416T160000
DTEND;TZID=Europe/Paris:20250416T180000
DTSTAMP:20260423T120344
CREATED:20250226T101239Z
LAST-MODIFIED:20250415T121558Z
UID:5804-1744819200-1744826400@eurorbem.sorbonne-universite.fr
SUMMARY:Observatoire du sensible  Prendre le pouls de la société russe à travers la littérature contemporaine
DESCRIPTION:Rencontres avec des écrivain·es russophones contemporain·es et leurs traducteur·trices\n(en bilingue russe-français\, avec traduction consécutive) \nRencontre avec Alexeï VOÏNOV (Hiver sans neige\, Éditions du bout de la ville\, 2025)\net son traducteur Guilhem POUSSON \nhttps://univ-lille-fr.zoom.us/j/98803743525?pwd=klUqrPjfaDk4kNnbPRUcjNR6Ju95g3.1 \nID de réunion: 988 0374 3525\nCode secret: 482260\n\nProgramme Observatoire 2025 \nContact : claire.delaunay@univ-lille.fr \n 
URL:https://eurorbem.sorbonne-universite.fr/event/observatoire-du-sensible-prendre-le-pouls-de-la-societe-russe-a-travers-la-litterature-contemporaine-10/
LOCATION:Institut d’études slaves – Salle de conférences\, 9 rue Michelet\, Paris\, 75006
CATEGORIES:Conférences
ATTACH;FMTTYPE=image/jpeg:https://eurorbem.sorbonne-universite.fr/wp-content/uploads/2025/02/Rencontre-Voinov-1.jpg
END:VEVENT
BEGIN:VEVENT
DTSTART;TZID=Europe/Paris:20250416T183000
DTEND;TZID=Europe/Paris:20250416T203000
DTSTAMP:20260423T120344
CREATED:20250401T091134Z
LAST-MODIFIED:20250401T092947Z
UID:6049-1744828200-1744835400@eurorbem.sorbonne-universite.fr
SUMMARY:Lancement de l’ouvrage Kandinsky
DESCRIPTION:La Science de l’art à l’époque révolutionnaire. Tout petits articles sur de grandes questions et autres écrits 1918-1924 (Editions Hermann) \nÉdition établie\, présentée\, commentée et annotée par Nadia Podzemskaia. \nEn présence de Nadia Podzemskaia\, directrice scientifique de l’ouvrage et Jean-Claude Marcadé\, spécialiste des avant-gardes russes. \nRéservation \n 
URL:https://eurorbem.sorbonne-universite.fr/event/lancement-de-louvrage-de-vassily-kandinsky-la-science-de-lart-a-lepoque-revolutionnaire-tout-petits-articles-sur-de-grandes-questions-et-autres-ecrits-1918-1924/
LOCATION:Bibliothèque Kandinsky – Centre Pompidou\, Place Georges Pompidou\, Paris\, 75004
CATEGORIES:Conférences
ATTACH;FMTTYPE=image/jpeg:https://eurorbem.sorbonne-universite.fr/wp-content/uploads/2025/04/podzemskaia_kandinsky.jpg
END:VEVENT
BEGIN:VEVENT
DTSTART;TZID=Europe/Paris:20250424T150000
DTEND;TZID=Europe/Paris:20250424T170000
DTSTAMP:20260423T120344
CREATED:20250324T140407Z
LAST-MODIFIED:20250423T135616Z
UID:6014-1745506800-1745514000@eurorbem.sorbonne-universite.fr
SUMMARY:TAMIZDAT : Printed matter in exile?
DESCRIPTION:Censure en tant que contrainte mobilisant ou création et publication\ndans l’économie restreinte de la culture \nKirill Medvedev (poète\, éditeur\, Brussels-Moscou) \nhttps://us06web.zoom.us/j/89153008505#success \nProgramme TAMIZDAT 2025 \nContact : Pavel Arsenev (lartpaulars@gmail.com)\, Marina Pantina (pantinamarina@gmail.com).
URL:https://eurorbem.sorbonne-universite.fr/event/tamizdat-printed-matter-in-exile-5/
LOCATION:ZOOM
CATEGORIES:Séminaires
ATTACH;FMTTYPE=image/jpeg:https://eurorbem.sorbonne-universite.fr/wp-content/uploads/2025/02/Programme-TAMIZDAT-2025-1-1.jpg
END:VEVENT
BEGIN:VEVENT
DTSTART;TZID=Europe/Paris:20250429T093000
DTEND;TZID=Europe/Paris:20250430T130000
DTSTAMP:20260423T120344
CREATED:20250411T130919Z
LAST-MODIFIED:20250428T094201Z
UID:6077-1745919000-1746018000@eurorbem.sorbonne-universite.fr
SUMMARY:« Les archives sont fermées » Réflexion collective sur l’accessibilité des archives documentant l’histoire russe\, soviétique et post-soviétique
DESCRIPTION:  \nProgramme\nPour suivre en Zoom \nSession 1 (29/04) : Les archives de l’émigration (9h30-12h30)\nhttps://zoom.us/j/98869626445?pwd=ibyF6rInss5Fibd8RbaeZ6sdrZc0JW.1\nID de réunion : 988 6962 6445\nCode secret : 406225\n\nSession 2 (29/04) : Continuer à chercher en temps de guerre (14h30-17h)\nhttps://zoom.us/j/96875334230?pwd=pOyugwSaI3oplvYazEbc1ZhkU6fYQZ.1\nID de réunion : 968 7533 4230\nCode secret : 547637 \nSession 3 (30/04) : Quelles sources alternatives ? (10h-13h)\nhttps://zoom.us/j/97997749803?pwd=C2jQ8LdFfpiycfNgnrbqtjd49ZvvMX.1\nID de réunion : 979 97749803\nCode secret : 491807
URL:https://eurorbem.sorbonne-universite.fr/event/les-archives-sont-fermees-reflexion-collective-sur-laccessibilite-des-archives-documentant-lhistoire-russe-sovietique-et-post-sovietique-2/
LOCATION:Centre d’études slaves – Salle conférences\, 9 rue Michelet\, Paris\, 75006\, France
CATEGORIES:Colloques et Journées d'étude
ATTACH;FMTTYPE=image/jpeg:https://eurorbem.sorbonne-universite.fr/wp-content/uploads/2025/04/WebArchives-fermees-Colloque-V4.jpg
END:VEVENT
END:VCALENDAR